BEGIN:VCALENDAR
VERSION:2.0
PRODID:-//CROAS Lombardia - ECPv6.15.20//NONSGML v1.0//EN
CALSCALE:GREGORIAN
METHOD:PUBLISH
X-ORIGINAL-URL:https://ordineaslombardia.it
X-WR-CALDESC:Eventi per CROAS Lombardia
REFRESH-INTERVAL;VALUE=DURATION:PT1H
X-Robots-Tag:noindex
X-PUBLISHED-TTL:PT1H
BEGIN:VTIMEZONE
TZID:Europe/Rome
BEGIN:DAYLIGHT
TZOFFSETFROM:+0100
TZOFFSETTO:+0200
TZNAME:CEST
DTSTART:20220327T010000
END:DAYLIGHT
BEGIN:STANDARD
TZOFFSETFROM:+0200
TZOFFSETTO:+0100
TZNAME:CET
DTSTART:20221030T010000
END:STANDARD
BEGIN:DAYLIGHT
TZOFFSETFROM:+0100
TZOFFSETTO:+0200
TZNAME:CEST
DTSTART:20230326T010000
END:DAYLIGHT
BEGIN:STANDARD
TZOFFSETFROM:+0200
TZOFFSETTO:+0100
TZNAME:CET
DTSTART:20231029T010000
END:STANDARD
BEGIN:DAYLIGHT
TZOFFSETFROM:+0100
TZOFFSETTO:+0200
TZNAME:CEST
DTSTART:20240331T010000
END:DAYLIGHT
BEGIN:STANDARD
TZOFFSETFROM:+0200
TZOFFSETTO:+0100
TZNAME:CET
DTSTART:20241027T010000
END:STANDARD
END:VTIMEZONE
BEGIN:VEVENT
DTSTART;TZID=Europe/Rome:20231021T090000
DTEND;TZID=Europe/Rome:20231021T130000
DTSTAMP:20260422T012644
CREATED:20240221T084359Z
LAST-MODIFIED:20240221T084359Z
UID:524-1697878800-1697893200@ordineaslombardia.it
SUMMARY:Laboratorio deontologico “In viaggio con il migrante. Quale approdo ai Servizi Socio-Sanitari?” – Riflessioni e scambi di esperienze.
DESCRIPTION:Laboratorio deontologico “In viaggio con il migrante. Quale approdo ai Servizi Socio-Sanitari?” – Riflessioni e scambi di esperienze. \n\nSede: Ordine assistenti sociali della Lombardia\, via Mercadante n. 4\, Milano
URL:https://ordineaslombardia.it/eventi/laboratorio-deontologico-in-viaggio-con-il-migrante-quale-approdo-ai-servizi-socio-sanitari-riflessioni-e-scambi-di-esperienze/
END:VEVENT
BEGIN:VEVENT
DTSTART;TZID=Europe/Rome:20231020T150000
DTEND;TZID=Europe/Rome:20231020T190000
DTSTAMP:20260422T012644
CREATED:20240221T085038Z
LAST-MODIFIED:20240221T085154Z
UID:528-1697814000-1697828400@ordineaslombardia.it
SUMMARY:Seduta del Consiglio regionale n. 11
DESCRIPTION:Seduta del Consiglio regionale n. 11
URL:https://ordineaslombardia.it/eventi/seduta-del-consiglio-regionale-n-11/
END:VEVENT
BEGIN:VEVENT
DTSTART;TZID=Europe/Rome:20231020T143000
DTEND;TZID=Europe/Rome:20231020T173000
DTSTAMP:20260422T012644
CREATED:20240221T084450Z
LAST-MODIFIED:20240221T084450Z
UID:526-1697812200-1697823000@ordineaslombardia.it
SUMMARY:Gruppo Assistenti Sociali Cure Palliative
DESCRIPTION:Incontro del Gruppo Assistenti Sociali Cure Palliative in videoconferenza (piattaforma z2)
URL:https://ordineaslombardia.it/eventi/gruppo-assistenti-sociali-cure-palliative-4/
END:VEVENT
BEGIN:VEVENT
DTSTART;TZID=Europe/Rome:20231019T150000
DTEND;TZID=Europe/Rome:20231019T170000
DTSTAMP:20260422T012644
CREATED:20240221T085242Z
LAST-MODIFIED:20240221T085242Z
UID:530-1697727600-1697734800@ordineaslombardia.it
SUMMARY:Collegio di disciplina B1
DESCRIPTION:Collegio di disciplina B1 in videoconferenza (piattaforma z)
URL:https://ordineaslombardia.it/eventi/collegio-di-disciplina-b1-2/
END:VEVENT
BEGIN:VEVENT
DTSTART;TZID=Europe/Rome:20231018T150000
DTEND;TZID=Europe/Rome:20231018T180000
DTSTAMP:20260422T012644
CREATED:20240221T085513Z
LAST-MODIFIED:20240221T085513Z
UID:532-1697641200-1697652000@ordineaslombardia.it
SUMMARY:Seduta della Commissione consultiva per l’autorizzazione della FC
DESCRIPTION:Seduta della Commissione consultiva per l’autorizzazione della FC\, in videoconferenza (piattaforma Z2)
URL:https://ordineaslombardia.it/eventi/seduta-della-commissione-consultiva-per-lautorizzazione-della-fc/
END:VEVENT
BEGIN:VEVENT
DTSTART;TZID=Europe/Rome:20231017T160000
DTEND;TZID=Europe/Rome:20231017T190000
DTSTAMP:20260422T012644
CREATED:20240221T085613Z
LAST-MODIFIED:20240221T085613Z
UID:534-1697558400-1697569200@ordineaslombardia.it
SUMMARY:Incontro del Gruppo “Lavoro Sociale con Cittadini Migranti”
DESCRIPTION:Incontro del Gruppo “Lavoro Sociale con Cittadini Migranti”\, in sede
URL:https://ordineaslombardia.it/eventi/incontro-del-gruppo-lavoro-sociale-con-cittadini-migranti-2/
END:VEVENT
BEGIN:VEVENT
DTSTART;TZID=Europe/Rome:20231013T163000
DTEND;TZID=Europe/Rome:20231013T190000
DTSTAMP:20260422T012644
CREATED:20240221T090059Z
LAST-MODIFIED:20240221T090059Z
UID:538-1697214600-1697223600@ordineaslombardia.it
SUMMARY:Collegio di disciplina B2
DESCRIPTION:Collegio di disciplina B2 in videoconferenza (piattaforma z1)
URL:https://ordineaslombardia.it/eventi/collegio-di-disciplina-b2-8/
END:VEVENT
BEGIN:VEVENT
DTSTART;TZID=Europe/Rome:20231013T090000
DTEND;TZID=Europe/Rome:20231013T180000
DTSTAMP:20260422T012644
CREATED:20240221T090009Z
LAST-MODIFIED:20240221T090009Z
UID:536-1697187600-1697220000@ordineaslombardia.it
SUMMARY:Collegio di disciplina B1
DESCRIPTION:Collegio di disciplina in sede (saletta CTD)
URL:https://ordineaslombardia.it/eventi/collegio-di-disciplina-b1-3/
END:VEVENT
BEGIN:VEVENT
DTSTART;TZID=Europe/Rome:20231012T150000
DTEND;TZID=Europe/Rome:20231012T180000
DTSTAMP:20260422T012644
CREATED:20240221T090140Z
LAST-MODIFIED:20240221T090140Z
UID:540-1697122800-1697133600@ordineaslombardia.it
SUMMARY:Incontro del Gruppo di scopo fragilità Materne
DESCRIPTION:Incontro da remoto (piattaforma z2)
URL:https://ordineaslombardia.it/eventi/incontro-del-gruppo-di-scopo-fragilita-materne/
END:VEVENT
BEGIN:VEVENT
DTSTART;TZID=Europe/Rome:20231011T170000
DTEND;TZID=Europe/Rome:20231011T190000
DTSTAMP:20260422T012644
CREATED:20240221T090254Z
LAST-MODIFIED:20240221T090254Z
UID:542-1697043600-1697050800@ordineaslombardia.it
SUMMARY:Gruppo Case di Comunità
DESCRIPTION:Incontro del gruppo in videoconferenza (piattaforma z2)
URL:https://ordineaslombardia.it/eventi/gruppo-case-di-comunita/
END:VEVENT
BEGIN:VEVENT
DTSTART;TZID=Europe/Rome:20231010T180000
DTEND;TZID=Europe/Rome:20231010T193000
DTSTAMP:20260422T012644
CREATED:20240221T090335Z
LAST-MODIFIED:20240221T090335Z
UID:544-1696960800-1696966200@ordineaslombardia.it
SUMMARY:Incontro gruppo Protezione Giuridica
DESCRIPTION:Incontro del gruppo Protezione Giuridica in videoconferenza (piattaforma z2)
URL:https://ordineaslombardia.it/eventi/incontro-gruppo-protezione-giuridica/
END:VEVENT
BEGIN:VEVENT
DTSTART;TZID=Europe/Rome:20231006T090000
DTEND;TZID=Europe/Rome:20231006T170000
DTSTAMP:20260422T012644
CREATED:20240221T090504Z
LAST-MODIFIED:20240221T090504Z
UID:546-1696582800-1696611600@ordineaslombardia.it
SUMMARY:CONVEGNO WELFARE È CULTURA
DESCRIPTION:Convegno in presenza dal titolo “Welfare è Cultura”\, che si terrà a Brescia il 6 ottobre 2023 dalle 9 alle 17.
URL:https://ordineaslombardia.it/eventi/convegno-welfare-e-cultura/
END:VEVENT
BEGIN:VEVENT
DTSTART;TZID=Europe/Rome:20231004T170000
DTEND;TZID=Europe/Rome:20231004T190000
DTSTAMP:20260422T012644
CREATED:20240221T091121Z
LAST-MODIFIED:20240221T091121Z
UID:548-1696438800-1696446000@ordineaslombardia.it
SUMMARY:Collegio di disciplina B2
DESCRIPTION:Convocazione Collegio da remoto (piattaforma z)
URL:https://ordineaslombardia.it/eventi/collegio-di-disciplina-b2-9/
END:VEVENT
BEGIN:VEVENT
DTSTART;TZID=Europe/Rome:20231003T171500
DTEND;TZID=Europe/Rome:20231003T193000
DTSTAMP:20260422T012644
CREATED:20240221T091428Z
LAST-MODIFIED:20240221T091428Z
UID:550-1696353300-1696361400@ordineaslombardia.it
SUMMARY:Incontro Gruppo Case di Comunità
DESCRIPTION:Incontro del Gruppo Case di Comunità da remoto (piattaforma z2)
URL:https://ordineaslombardia.it/eventi/incontro-gruppo-case-di-comunita/
END:VEVENT
BEGIN:VEVENT
DTSTART;TZID=Europe/Rome:20231002T170000
DTEND;TZID=Europe/Rome:20231002T190000
DTSTAMP:20260422T012644
CREATED:20240221T091509Z
LAST-MODIFIED:20240221T091509Z
UID:552-1696266000-1696273200@ordineaslombardia.it
SUMMARY:Incontro Gruppo Anziani
DESCRIPTION:Incontro in videoconferenza (piattaforma z2) del Gruppo Anziani
URL:https://ordineaslombardia.it/eventi/incontro-gruppo-anziani-5/
END:VEVENT
BEGIN:VEVENT
DTSTART;TZID=Europe/Rome:20230929T150000
DTEND;TZID=Europe/Rome:20230929T170000
DTSTAMP:20260422T012644
CREATED:20240221T092439Z
LAST-MODIFIED:20240221T092439Z
UID:554-1695999600-1696006800@ordineaslombardia.it
SUMMARY:Collegio di Disciplina A1
DESCRIPTION:Convocazione collegio da remoto (piattaforma Z1)
URL:https://ordineaslombardia.it/eventi/collegio-di-disciplina-a1-7/
END:VEVENT
BEGIN:VEVENT
DTSTART;TZID=Europe/Rome:20230927T133000
DTEND;TZID=Europe/Rome:20230927T153000
DTSTAMP:20260422T012644
CREATED:20240221T093246Z
LAST-MODIFIED:20240221T093246Z
UID:556-1695821400-1695828600@ordineaslombardia.it
SUMMARY:Gruppo territoriale FC di Lecco
DESCRIPTION:Incontro del Gruppo territoriale FC di Lecco\, in videoconferenza (piattaforma Z2)
URL:https://ordineaslombardia.it/eventi/gruppo-territoriale-fc-di-lecco-2/
END:VEVENT
BEGIN:VEVENT
DTSTART;TZID=Europe/Rome:20230926T150000
DTEND;TZID=Europe/Rome:20230926T180000
DTSTAMP:20260422T012644
CREATED:20240221T093429Z
LAST-MODIFIED:20240221T093429Z
UID:558-1695740400-1695751200@ordineaslombardia.it
SUMMARY:Incontro del Gruppo di scopo Fragilità Materne
DESCRIPTION:Incontro del Gruppo di scopo Fragilità Materne\, in modalità mista (sede + videoconferenza con piattaforma Z2)
URL:https://ordineaslombardia.it/eventi/incontro-del-gruppo-di-scopo-fragilita-materne-2/
END:VEVENT
BEGIN:VEVENT
DTSTART;TZID=Europe/Rome:20230922T180000
DTEND;TZID=Europe/Rome:20230922T193000
DTSTAMP:20260422T012644
CREATED:20240221T093538Z
LAST-MODIFIED:20240221T093538Z
UID:560-1695405600-1695411000@ordineaslombardia.it
SUMMARY:Collegio di disciplina B1
DESCRIPTION:Collegio di disciplina in videoconferenza (piattaforma z1)
URL:https://ordineaslombardia.it/eventi/collegio-di-disciplina-b1-4/
END:VEVENT
BEGIN:VEVENT
DTSTART;TZID=Europe/Rome:20230921T150000
DTEND;TZID=Europe/Rome:20230921T170000
DTSTAMP:20260422T012644
CREATED:20240221T093619Z
LAST-MODIFIED:20240221T093619Z
UID:562-1695308400-1695315600@ordineaslombardia.it
SUMMARY:Laboratorio “Tutela Minori”
DESCRIPTION:Laboratorio “Tutela Minori”\, organizzato dal Gruppo territoriale FC di Pavia\, in presenza presso la sede della Provincia\, in  Piazza Italia  2
URL:https://ordineaslombardia.it/eventi/laboratorio-tutela-minori-4/
END:VEVENT
BEGIN:VEVENT
DTSTART;TZID=Europe/Rome:20230919T163000
DTEND;TZID=Europe/Rome:20230919T193000
DTSTAMP:20260422T012644
CREATED:20240221T093704Z
LAST-MODIFIED:20240221T093704Z
UID:564-1695141000-1695151800@ordineaslombardia.it
SUMMARY:Collegio di disciplina B2
DESCRIPTION:Convocazione Collegio da remoto (piattaforma z)
URL:https://ordineaslombardia.it/eventi/collegio-di-disciplina-b2-10/
END:VEVENT
BEGIN:VEVENT
DTSTART;TZID=Europe/Rome:20230918T171500
DTEND;TZID=Europe/Rome:20230918T191500
DTSTAMP:20260422T012644
CREATED:20240221T093755Z
LAST-MODIFIED:20240221T093755Z
UID:566-1695057300-1695064500@ordineaslombardia.it
SUMMARY:Gruppo Casa di Comunità
DESCRIPTION:Incontro da remoto (piattaforma z)
URL:https://ordineaslombardia.it/eventi/gruppo-casa-di-comunita-2/
END:VEVENT
BEGIN:VEVENT
DTSTART;TZID=Europe/Rome:20230915T170000
DTEND;TZID=Europe/Rome:20230915T190000
DTSTAMP:20260422T012644
CREATED:20240221T093915Z
LAST-MODIFIED:20240221T093915Z
UID:570-1694797200-1694804400@ordineaslombardia.it
SUMMARY:Gruppo tematico “Servizio Sociale nelle reti di intervento contro la violenza di genere”
DESCRIPTION:Incontro del Gruppo tematico “Servizio Sociale nelle reti di intervento contro la violenza di genere”\, in videoconferenza (piattaforma Z2)
URL:https://ordineaslombardia.it/eventi/gruppo-tematico-servizio-sociale-nelle-reti-di-intervento-contro-la-violenza-di-genere-7/
END:VEVENT
BEGIN:VEVENT
DTSTART;TZID=Europe/Rome:20230915T090000
DTEND;TZID=Europe/Rome:20230915T090000
DTSTAMP:20260422T012644
CREATED:20240221T093840Z
LAST-MODIFIED:20240221T093840Z
UID:568-1694768400-1694768400@ordineaslombardia.it
SUMMARY:Collegio di Disciplina B1
DESCRIPTION:Convocazione Collegio  in presenza
URL:https://ordineaslombardia.it/eventi/collegio-di-disciplina-b1-5/
END:VEVENT
BEGIN:VEVENT
DTSTART;TZID=Europe/Rome:20230909T093000
DTEND;TZID=Europe/Rome:20230909T123000
DTSTAMP:20260422T012644
CREATED:20240221T094157Z
LAST-MODIFIED:20240221T094157Z
UID:572-1694251800-1694262600@ordineaslombardia.it
SUMMARY:Collegio di disciplina B2
DESCRIPTION:Convocazione Collegio in sede
URL:https://ordineaslombardia.it/eventi/collegio-di-disciplina-b2-11/
END:VEVENT
BEGIN:VEVENT
DTSTART;TZID=Europe/Rome:20230906T150000
DTEND;TZID=Europe/Rome:20230906T190000
DTSTAMP:20260422T012644
CREATED:20240221T094241Z
LAST-MODIFIED:20240221T094241Z
UID:574-1694012400-1694026800@ordineaslombardia.it
SUMMARY:Seduta del Consiglio regionale n. 10
DESCRIPTION:Seduta del Consiglio regionale n. 10\, in sede
URL:https://ordineaslombardia.it/eventi/seduta-del-consiglio-regionale-n-10/
END:VEVENT
BEGIN:VEVENT
DTSTART;TZID=Europe/Rome:20230905T160000
DTEND;TZID=Europe/Rome:20230905T190000
DTSTAMP:20260422T012644
CREATED:20240221T094528Z
LAST-MODIFIED:20240221T094528Z
UID:576-1693929600-1693940400@ordineaslombardia.it
SUMMARY:Seduta della Commissione Formazione Continua
DESCRIPTION:Seduta della Commissione Formazione Continua\, in videoconferenza (piattaforma Z2)
URL:https://ordineaslombardia.it/eventi/seduta-della-commissione-formazione-continua/
END:VEVENT
BEGIN:VEVENT
DTSTART;TZID=Europe/Rome:20230823T100000
DTEND;TZID=Europe/Rome:20230823T130000
DTSTAMP:20260422T012644
CREATED:20240221T094631Z
LAST-MODIFIED:20240221T094631Z
UID:578-1692784800-1692795600@ordineaslombardia.it
SUMMARY:Seduta della Commissione Formazione Continua
DESCRIPTION:Seduta della Commissione Formazione Continua\, in videoconferenza (piattaforma Z2)
URL:https://ordineaslombardia.it/eventi/seduta-della-commissione-formazione-continua-2/
END:VEVENT
BEGIN:VEVENT
DTSTART;TZID=Europe/Rome:20230809T150000
DTEND;TZID=Europe/Rome:20230809T190000
DTSTAMP:20260422T012644
CREATED:20240221T094716Z
LAST-MODIFIED:20240221T094716Z
UID:580-1691593200-1691607600@ordineaslombardia.it
SUMMARY:Seduta del Consiglio regionale n. 9
DESCRIPTION:Seduta del Consiglio regionale n. 9\, in videoconferenza (piattaforma Z2)
URL:https://ordineaslombardia.it/eventi/seduta-del-consiglio-regionale-n-9/
END:VEVENT
BEGIN:VEVENT
DTSTART;TZID=Europe/Rome:20230727T170000
DTEND;TZID=Europe/Rome:20230727T190000
DTSTAMP:20260422T012644
CREATED:20240221T095653Z
LAST-MODIFIED:20240221T095653Z
UID:582-1690477200-1690484400@ordineaslombardia.it
SUMMARY:Collegio di disciplina B2
DESCRIPTION:Collegio da remoto (piattaforma Z)
URL:https://ordineaslombardia.it/eventi/collegio-di-disciplina-b2-12/
END:VEVENT
END:VCALENDAR