BEGIN:VCALENDAR
VERSION:2.0
PRODID:-//CROAS Lombardia - ECPv6.15.20//NONSGML v1.0//EN
CALSCALE:GREGORIAN
METHOD:PUBLISH
X-WR-CALNAME:CROAS Lombardia
X-ORIGINAL-URL:https://ordineaslombardia.it
X-WR-CALDESC:Eventi per CROAS Lombardia
REFRESH-INTERVAL;VALUE=DURATION:PT1H
X-Robots-Tag:noindex
X-PUBLISHED-TTL:PT1H
BEGIN:VTIMEZONE
TZID:Europe/Rome
BEGIN:DAYLIGHT
TZOFFSETFROM:+0100
TZOFFSETTO:+0200
TZNAME:CEST
DTSTART:20220327T010000
END:DAYLIGHT
BEGIN:STANDARD
TZOFFSETFROM:+0200
TZOFFSETTO:+0100
TZNAME:CET
DTSTART:20221030T010000
END:STANDARD
BEGIN:DAYLIGHT
TZOFFSETFROM:+0100
TZOFFSETTO:+0200
TZNAME:CEST
DTSTART:20230326T010000
END:DAYLIGHT
BEGIN:STANDARD
TZOFFSETFROM:+0200
TZOFFSETTO:+0100
TZNAME:CET
DTSTART:20231029T010000
END:STANDARD
BEGIN:DAYLIGHT
TZOFFSETFROM:+0100
TZOFFSETTO:+0200
TZNAME:CEST
DTSTART:20240331T010000
END:DAYLIGHT
BEGIN:STANDARD
TZOFFSETFROM:+0200
TZOFFSETTO:+0100
TZNAME:CET
DTSTART:20241027T010000
END:STANDARD
END:VTIMEZONE
BEGIN:VEVENT
DTSTART;TZID=Europe/Rome:20231205T170000
DTEND;TZID=Europe/Rome:20231205T190000
DTSTAMP:20260421T203454
CREATED:20240220T163940Z
LAST-MODIFIED:20240220T163940Z
UID:445-1701795600-1701802800@ordineaslombardia.it
SUMMARY:Laboratorio “Gruppo supporto assistenti sociali”
DESCRIPTION:Laboratorio “Gruppo supporto assistenti sociali”\, organizzato dal Gruppo territoriale FC di Pavia\, in modalità “da remoto” (Z2)
URL:https://ordineaslombardia.it/eventi/laboratorio-gruppo-supporto-assistenti-sociali-2/
END:VEVENT
BEGIN:VEVENT
DTSTART;TZID=Europe/Rome:20231204T150000
DTEND;TZID=Europe/Rome:20231204T180000
DTSTAMP:20260421T203454
CREATED:20240220T164018Z
LAST-MODIFIED:20240220T164018Z
UID:447-1701702000-1701712800@ordineaslombardia.it
SUMMARY:Gruppo di scopo Scrittura Professionale
DESCRIPTION:Incontro del Gruppo di scopo Scrittura Professionale\, in sede (sala consiglio)
URL:https://ordineaslombardia.it/eventi/gruppo-di-scopo-scrittura-professionale-2/
END:VEVENT
BEGIN:VEVENT
DTSTART;TZID=Europe/Rome:20231201T150000
DTEND;TZID=Europe/Rome:20231201T180000
DTSTAMP:20260421T203454
CREATED:20240220T164112Z
LAST-MODIFIED:20240220T164112Z
UID:449-1701442800-1701453600@ordineaslombardia.it
SUMMARY:Commissione Formazione Continua
DESCRIPTION:Seduta della Commissione per l’autorizzazione della Formazione Continua\, da remoto.
URL:https://ordineaslombardia.it/eventi/commissione-formazione-continua-2/
END:VEVENT
BEGIN:VEVENT
DTSTART;TZID=Europe/Rome:20231129T140000
DTEND;TZID=Europe/Rome:20231129T170000
DTSTAMP:20260421T203454
CREATED:20240220T164148Z
LAST-MODIFIED:20240220T164148Z
UID:451-1701266400-1701277200@ordineaslombardia.it
SUMMARY:Webinar del gruppo territoriale FC della provincia di Como
DESCRIPTION:Webinar del gruppo territoriale FC della provincia di Como\, tramite piattaforma Z2
URL:https://ordineaslombardia.it/eventi/webinar-del-gruppo-territoriale-fc-della-provincia-di-como/
END:VEVENT
BEGIN:VEVENT
DTSTART;TZID=Europe/Rome:20231128T140000
DTEND;TZID=Europe/Rome:20231128T170000
DTSTAMP:20260421T203454
CREATED:20240220T164305Z
LAST-MODIFIED:20240220T164305Z
UID:456-1701180000-1701190800@ordineaslombardia.it
SUMMARY:Gruppo Tematico Tutela Minori e Famiglia
DESCRIPTION:Incontro in videoconferenza (piattaforma z2) del Gruppo Tematico Tutela Minori e Famiglia
URL:https://ordineaslombardia.it/eventi/gruppo-tematico-tutela-minori-e-famiglia/
END:VEVENT
BEGIN:VEVENT
DTSTART;TZID=Europe/Rome:20231128T093000
DTEND;TZID=Europe/Rome:20231128T113000
DTSTAMP:20260421T203454
CREATED:20240220T164229Z
LAST-MODIFIED:20240220T164229Z
UID:453-1701163800-1701171000@ordineaslombardia.it
SUMMARY:Gruppo di studio “Servizio sociale e tecnologie digitali: pratica e ricerca insieme”
DESCRIPTION:Terzo incontro del gruppo di studio “Servizio sociale e tecnologie digitali: pratica e ricerca insieme” – gruppo di Varese
URL:https://ordineaslombardia.it/eventi/gruppo-di-studio-servizio-sociale-e-tecnologie-digitali-pratica-e-ricerca-insieme/
END:VEVENT
BEGIN:VEVENT
DTSTART;TZID=Europe/Rome:20231127T160000
DTEND;TZID=Europe/Rome:20231127T190000
DTSTAMP:20260421T203454
CREATED:20240220T164854Z
LAST-MODIFIED:20240220T164854Z
UID:463-1701100800-1701111600@ordineaslombardia.it
SUMMARY:Commissione Eventi
DESCRIPTION:Incontro Commissione Eventi – in remoto (Z2)
URL:https://ordineaslombardia.it/eventi/commissione-eventi/
END:VEVENT
BEGIN:VEVENT
DTSTART;TZID=Europe/Rome:20231127T143000
DTEND;TZID=Europe/Rome:20231127T163000
DTSTAMP:20260421T203454
CREATED:20240220T164752Z
LAST-MODIFIED:20240220T164752Z
UID:461-1701095400-1701102600@ordineaslombardia.it
SUMMARY:Gruppo di studio “Servizio sociale e tecnologie digitali: pratica e ricerca insieme”
DESCRIPTION:Secondo incontro del gruppo di studio “Servizio sociale e tecnologie digitali: pratica e ricerca insieme” – gruppo di Sondrio
URL:https://ordineaslombardia.it/eventi/gruppo-di-studio-servizio-sociale-e-tecnologie-digitali-pratica-e-ricerca-insieme-2/
END:VEVENT
BEGIN:VEVENT
DTSTART;TZID=Europe/Rome:20231125T093000
DTEND;TZID=Europe/Rome:20231125T120000
DTSTAMP:20260421T203454
CREATED:20240220T165005Z
LAST-MODIFIED:20240220T165005Z
UID:465-1700904600-1700913600@ordineaslombardia.it
SUMMARY:Collegio di disciplina B2
DESCRIPTION:Convocazione collegio in sede
URL:https://ordineaslombardia.it/eventi/collegio-di-disciplina-b2-4/
END:VEVENT
BEGIN:VEVENT
DTSTART;TZID=Europe/Rome:20231124T143000
DTEND;TZID=Europe/Rome:20231124T170000
DTSTAMP:20260421T203454
CREATED:20240220T165146Z
LAST-MODIFIED:20240220T165146Z
UID:467-1700836200-1700845200@ordineaslombardia.it
SUMMARY:Gruppo Assistenti Sociali Cure Palliative
DESCRIPTION:Incontro del Gruppo Assistenti Sociali Cure Palliative in videoconferenza (piattaforma z)
URL:https://ordineaslombardia.it/eventi/gruppo-assistenti-sociali-cure-palliative-3/
END:VEVENT
BEGIN:VEVENT
DTSTART;TZID=Europe/Rome:20231122T150000
DTEND;TZID=Europe/Rome:20231122T170000
DTSTAMP:20260421T203454
CREATED:20240220T165234Z
LAST-MODIFIED:20240220T165234Z
UID:469-1700665200-1700672400@ordineaslombardia.it
SUMMARY:Gruppo di studio “Servizio sociale e tecnologie digitali: pratica e ricerca insieme”
DESCRIPTION:Primo incontro del gruppo di studio “Servizio sociale e tecnologie digitali: pratica e ricerca insieme” – gruppo di Pavia
URL:https://ordineaslombardia.it/eventi/gruppo-di-studio-servizio-sociale-e-tecnologie-digitali-pratica-e-ricerca-insieme-3/
END:VEVENT
BEGIN:VEVENT
DTSTART;TZID=Europe/Rome:20231120T163000
DTEND;TZID=Europe/Rome:20231120T190000
DTSTAMP:20260421T203454
CREATED:20240220T165317Z
LAST-MODIFIED:20240220T165317Z
UID:471-1700497800-1700506800@ordineaslombardia.it
SUMMARY:GRUPPO TERRITORIALE FC DELLA CITTA’ METROPOLITANA DI MILANO
DESCRIPTION:Incontro del Gruppo territoriale FC della Città Metropolitana di Milano\, in sede (sala consiglio)
URL:https://ordineaslombardia.it/eventi/gruppo-territoriale-fc-della-citta-metropolitana-di-milano-6/
END:VEVENT
BEGIN:VEVENT
DTSTART;TZID=Europe/Rome:20231120T163000
DTEND;TZID=Europe/Rome:20231120T183000
DTSTAMP:20260421T203454
CREATED:20240220T165409Z
LAST-MODIFIED:20240220T165409Z
UID:473-1700497800-1700505000@ordineaslombardia.it
SUMMARY:COMMISSIONE ETICA E DEONTOLOGIA
DESCRIPTION:Incontro della Commissione Etica e Deontologia\, in videoconferenza (Z2)
URL:https://ordineaslombardia.it/eventi/commissione-etica-e-deontologia-2/
END:VEVENT
BEGIN:VEVENT
DTSTART;TZID=Europe/Rome:20231117T163000
DTEND;TZID=Europe/Rome:20231117T183000
DTSTAMP:20260421T203454
CREATED:20240221T081952Z
LAST-MODIFIED:20240221T081952Z
UID:476-1700238600-1700245800@ordineaslombardia.it
SUMMARY:Gruppo Tematico Servizio Sociale in Emergenza
DESCRIPTION:Incontro gruppo in videoconferenza (piattaforma z)
URL:https://ordineaslombardia.it/eventi/gruppo-tematico-servizio-sociale-in-emergenza/
END:VEVENT
BEGIN:VEVENT
DTSTART;TZID=Europe/Rome:20231116T171500
DTEND;TZID=Europe/Rome:20231116T191500
DTSTAMP:20260421T203454
CREATED:20240221T082136Z
LAST-MODIFIED:20240221T082136Z
UID:478-1700154900-1700162100@ordineaslombardia.it
SUMMARY:Incontro del Gruppo tematico Case della Comunità
DESCRIPTION:Incontro del Gruppo tematico Case della Comunità\, in videoconferenza (piattaforma Z2)
URL:https://ordineaslombardia.it/eventi/incontro-del-gruppo-tematico-case-della-comunita/
END:VEVENT
BEGIN:VEVENT
DTSTART;TZID=Europe/Rome:20231115T163000
DTEND;TZID=Europe/Rome:20231115T180000
DTSTAMP:20260421T203454
CREATED:20240221T082357Z
LAST-MODIFIED:20240221T082357Z
UID:483-1700065800-1700071200@ordineaslombardia.it
SUMMARY:Collegio di Disciplina A1
DESCRIPTION:Collegio di Disciplina A1 in videoconferenza (piattaforma z1)
URL:https://ordineaslombardia.it/eventi/collegio-di-disciplina-a1-4/
END:VEVENT
BEGIN:VEVENT
DTSTART;TZID=Europe/Rome:20231115T140000
DTEND;TZID=Europe/Rome:20231115T170000
DTSTAMP:20260421T203454
CREATED:20240221T082242Z
LAST-MODIFIED:20240221T082242Z
UID:480-1700056800-1700067600@ordineaslombardia.it
SUMMARY:Webinar del gruppo territoriale FC della provincia di Como
DESCRIPTION:Webinar del gruppo territoriale FC della provincia di Como\, tramite piattaforma Z2
URL:https://ordineaslombardia.it/eventi/webinar-del-gruppo-territoriale-fc-della-provincia-di-como-2/
END:VEVENT
BEGIN:VEVENT
DTSTART;TZID=Europe/Rome:20231114T163000
DTEND;TZID=Europe/Rome:20231114T183000
DTSTAMP:20260421T203454
CREATED:20240221T082510Z
LAST-MODIFIED:20240221T082510Z
UID:485-1699979400-1699986600@ordineaslombardia.it
SUMMARY:Gruppo Servizio Sociale Professionale negli Enti Locali
DESCRIPTION:Incontro del Gruppo Servizio Sociale Professionale negli Enti Locali in videoconferenza (piattaforma Z2)
URL:https://ordineaslombardia.it/eventi/gruppo-servizio-sociale-professionale-negli-enti-locali/
END:VEVENT
BEGIN:VEVENT
DTSTART;TZID=Europe/Rome:20231113T150000
DTEND;TZID=Europe/Rome:20231113T190000
DTSTAMP:20260421T203454
CREATED:20240221T082545Z
LAST-MODIFIED:20240221T082545Z
UID:487-1699887600-1699902000@ordineaslombardia.it
SUMMARY:Seduta del Consiglio regionale n. 12
DESCRIPTION:Seduta del Consiglio regionale n. 12\, in sede \n 
URL:https://ordineaslombardia.it/eventi/seduta-del-consiglio-regionale-n-12/
END:VEVENT
BEGIN:VEVENT
DTSTART;TZID=Europe/Rome:20231111T093000
DTEND;TZID=Europe/Rome:20231111T120000
DTSTAMP:20260421T203454
CREATED:20240221T082644Z
LAST-MODIFIED:20240221T082644Z
UID:489-1699695000-1699704000@ordineaslombardia.it
SUMMARY:Convocazione Presidenti CTD
DESCRIPTION:Convocazione Presidenti CTD in sede
URL:https://ordineaslombardia.it/eventi/convocazione-presidenti-ctd/
END:VEVENT
BEGIN:VEVENT
DTSTART;TZID=Europe/Rome:20231110T150000
DTEND;TZID=Europe/Rome:20231110T180000
DTSTAMP:20260421T203454
CREATED:20240221T082725Z
LAST-MODIFIED:20240221T082725Z
UID:491-1699628400-1699639200@ordineaslombardia.it
SUMMARY:Seduta della Commissione consultiva per l’autorizzazione della Formazione Continua
DESCRIPTION:Seduta della Commissione consultiva per l’autorizzazione della Formazione Continua\, da remoto tramite piattaforma Z2
URL:https://ordineaslombardia.it/eventi/seduta-della-commissione-consultiva-per-lautorizzazione-della-formazione-continua/
END:VEVENT
BEGIN:VEVENT
DTSTART;TZID=Europe/Rome:20231110T143000
DTEND;TZID=Europe/Rome:20231110T143000
DTSTAMP:20260421T203454
CREATED:20240221T082811Z
LAST-MODIFIED:20240221T082811Z
UID:493-1699626600-1699626600@ordineaslombardia.it
SUMMARY:Collegio di Disciplina A1
DESCRIPTION:Collegio di Disciplina A1 in videoconferenza (piattaforma z1)
URL:https://ordineaslombardia.it/eventi/collegio-di-disciplina-a1-5/
END:VEVENT
BEGIN:VEVENT
DTSTART;TZID=Europe/Rome:20231109T170000
DTEND;TZID=Europe/Rome:20231109T200000
DTSTAMP:20260421T203454
CREATED:20240221T082856Z
LAST-MODIFIED:20240221T082856Z
UID:495-1699549200-1699560000@ordineaslombardia.it
SUMMARY:Collegio di disciplina B2
DESCRIPTION:Convocazione collegio da remoto (piattaforma z)
URL:https://ordineaslombardia.it/eventi/collegio-di-disciplina-b2-5/
END:VEVENT
BEGIN:VEVENT
DTSTART;TZID=Europe/Rome:20231109T170000
DTEND;TZID=Europe/Rome:20231109T183000
DTSTAMP:20260421T203454
CREATED:20240221T083041Z
LAST-MODIFIED:20240221T083041Z
UID:497-1699549200-1699554600@ordineaslombardia.it
SUMMARY:Gruppo tematico Protezione Giuridica
DESCRIPTION:Incontro del Gruppo tematico Protezione Giuridica\, in videoconferenza (piattaforma Z2)
URL:https://ordineaslombardia.it/eventi/gruppo-tematico-protezione-giuridica-2/
END:VEVENT
BEGIN:VEVENT
DTSTART;TZID=Europe/Rome:20231109T163000
DTEND;TZID=Europe/Rome:20231109T190000
DTSTAMP:20260421T203454
CREATED:20240221T083130Z
LAST-MODIFIED:20240221T083130Z
UID:499-1699547400-1699556400@ordineaslombardia.it
SUMMARY:Collegio di Disciplina B2
DESCRIPTION:Collegio di Disciplina B2 in videoconferenza (piattaforma z1)
URL:https://ordineaslombardia.it/eventi/collegio-di-disciplina-b2-6/
END:VEVENT
BEGIN:VEVENT
DTSTART;TZID=Europe/Rome:20231106T173000
DTEND;TZID=Europe/Rome:20231106T193000
DTSTAMP:20260421T203454
CREATED:20240221T083219Z
LAST-MODIFIED:20240221T083219Z
UID:501-1699291800-1699299000@ordineaslombardia.it
SUMMARY:GRUPPO TERRITORIALE FC DELLA CITTA’ METROPOLITANA DI MILANO
DESCRIPTION:Incontro del Gruppo territoriale FC della Città Metropolitana di Milano\, in sede (sala consiglio)
URL:https://ordineaslombardia.it/eventi/gruppo-territoriale-fc-della-citta-metropolitana-di-milano-7/
END:VEVENT
BEGIN:VEVENT
DTSTART;TZID=Europe/Rome:20231106T170000
DTEND;TZID=Europe/Rome:20231106T190000
DTSTAMP:20260421T203454
CREATED:20240221T083301Z
LAST-MODIFIED:20240221T083301Z
UID:503-1699290000-1699297200@ordineaslombardia.it
SUMMARY:Incontro Gruppo Anziani
DESCRIPTION:Incontro del Gruppo Anziani in videoconferenza (piattaforma z2)
URL:https://ordineaslombardia.it/eventi/incontro-gruppo-anziani-4/
END:VEVENT
BEGIN:VEVENT
DTSTART;TZID=Europe/Rome:20231106T150000
DTEND;TZID=Europe/Rome:20231106T180000
DTSTAMP:20260421T203454
CREATED:20240221T083339Z
LAST-MODIFIED:20240221T083339Z
UID:505-1699282800-1699293600@ordineaslombardia.it
SUMMARY:Seduta della Commissione consultiva per l’autorizzazione della Formazione Continua
DESCRIPTION:Seduta della Commissione consultiva per l’autorizzazione della Formazione Continua\, in sede
URL:https://ordineaslombardia.it/eventi/seduta-della-commissione-consultiva-per-lautorizzazione-della-formazione-continua-2/
END:VEVENT
BEGIN:VEVENT
DTSTART;TZID=Europe/Rome:20231102T183000
DTEND;TZID=Europe/Rome:20231102T203000
DTSTAMP:20260421T203454
CREATED:20240221T083446Z
LAST-MODIFIED:20240221T083446Z
UID:507-1698949800-1698957000@ordineaslombardia.it
SUMMARY:Collegio di Disciplina A2
DESCRIPTION:Collegio di Disciplina A2 in videoconferenza (piattaforma z1)
URL:https://ordineaslombardia.it/eventi/collegio-di-disciplina-a2/
END:VEVENT
BEGIN:VEVENT
DTSTART;TZID=Europe/Rome:20231027T163000
DTEND;TZID=Europe/Rome:20231027T183000
DTSTAMP:20260421T203454
CREATED:20240221T083653Z
LAST-MODIFIED:20240221T083653Z
UID:511-1698424200-1698431400@ordineaslombardia.it
SUMMARY:Gruppo Tematico Servizio Sociale in Emergenza
DESCRIPTION:Incontro gruppo in presenza e in videoconferenza (piattaforma z)
URL:https://ordineaslombardia.it/eventi/gruppo-tematico-servizio-sociale-in-emergenza-2/
END:VEVENT
END:VCALENDAR