BEGIN:VCALENDAR
VERSION:2.0
PRODID:-//CROAS Lombardia - ECPv6.15.20//NONSGML v1.0//EN
CALSCALE:GREGORIAN
METHOD:PUBLISH
X-ORIGINAL-URL:https://ordineaslombardia.it
X-WR-CALDESC:Eventi per CROAS Lombardia
REFRESH-INTERVAL;VALUE=DURATION:PT1H
X-Robots-Tag:noindex
X-PUBLISHED-TTL:PT1H
BEGIN:VTIMEZONE
TZID:Europe/Rome
BEGIN:DAYLIGHT
TZOFFSETFROM:+0100
TZOFFSETTO:+0200
TZNAME:CEST
DTSTART:20230326T010000
END:DAYLIGHT
BEGIN:STANDARD
TZOFFSETFROM:+0200
TZOFFSETTO:+0100
TZNAME:CET
DTSTART:20231029T010000
END:STANDARD
BEGIN:DAYLIGHT
TZOFFSETFROM:+0100
TZOFFSETTO:+0200
TZNAME:CEST
DTSTART:20240331T010000
END:DAYLIGHT
BEGIN:STANDARD
TZOFFSETFROM:+0200
TZOFFSETTO:+0100
TZNAME:CET
DTSTART:20241027T010000
END:STANDARD
BEGIN:DAYLIGHT
TZOFFSETFROM:+0100
TZOFFSETTO:+0200
TZNAME:CEST
DTSTART:20250330T010000
END:DAYLIGHT
BEGIN:STANDARD
TZOFFSETFROM:+0200
TZOFFSETTO:+0100
TZNAME:CET
DTSTART:20251026T010000
END:STANDARD
END:VTIMEZONE
BEGIN:VEVENT
DTSTART;TZID=Europe/Rome:20240418T170000
DTEND;TZID=Europe/Rome:20240418T190000
DTSTAMP:20260421T101018
CREATED:20240220T140031Z
LAST-MODIFIED:20240220T140031Z
UID:299-1713459600-1713466800@ordineaslombardia.it
SUMMARY:GRUPPO TERRITORIALE FC DI BRESCIA
DESCRIPTION:Incontro del gruppo territoriale di supporto alla FC della provincia di BRESCIA\, in videoconferenza (z2)
URL:https://ordineaslombardia.it/eventi/gruppo-territoriale-fc-di-brescia-3/
END:VEVENT
BEGIN:VEVENT
DTSTART;TZID=Europe/Rome:20240417T170000
DTEND;TZID=Europe/Rome:20240417T190000
DTSTAMP:20260421T101018
CREATED:20240220T135943Z
LAST-MODIFIED:20240220T135943Z
UID:297-1713373200-1713380400@ordineaslombardia.it
SUMMARY:Collegio CTD
DESCRIPTION:Collegio CTD\, in videoconferenza (piattaforma Z1)
URL:https://ordineaslombardia.it/eventi/collegio-ctd-8/
END:VEVENT
BEGIN:VEVENT
DTSTART;TZID=Europe/Rome:20240412T170000
DTEND;TZID=Europe/Rome:20240412T190000
DTSTAMP:20260421T101018
CREATED:20240220T135855Z
LAST-MODIFIED:20240220T135855Z
UID:295-1712941200-1712948400@ordineaslombardia.it
SUMMARY:GRUPPO TEMATICO Servizio sociale nelle reti di intervento contro la violenza di genere
DESCRIPTION:GRUPPO TEMATICO Servizio sociale nelle reti di intervento contro la violenza di genere\, in videoconferenza (z2)
URL:https://ordineaslombardia.it/eventi/gruppo-tematico-servizio-sociale-nelle-reti-di-intervento-contro-la-violenza-di-genere-2/
END:VEVENT
BEGIN:VEVENT
DTSTART;TZID=Europe/Rome:20240410T150000
DTEND;TZID=Europe/Rome:20240410T200000
DTSTAMP:20260421T101018
CREATED:20240220T135808Z
LAST-MODIFIED:20240220T135808Z
UID:293-1712761200-1712779200@ordineaslombardia.it
SUMMARY:Seduta del Consiglio regionale n. 4
DESCRIPTION:Seduta del Consiglio regionale n. 4\, presso la sede
URL:https://ordineaslombardia.it/eventi/seduta-del-consiglio-regionale-n-4/
END:VEVENT
BEGIN:VEVENT
DTSTART;TZID=Europe/Rome:20240405T170000
DTEND;TZID=Europe/Rome:20240405T190000
DTSTAMP:20260421T101018
CREATED:20240220T135714Z
LAST-MODIFIED:20240220T135714Z
UID:290-1712336400-1712343600@ordineaslombardia.it
SUMMARY:Collegio CTD
DESCRIPTION:Collegio CTD\, in videoconferenza (piattaforma Z1)
URL:https://ordineaslombardia.it/eventi/collegio-ctd-7/
END:VEVENT
BEGIN:VEVENT
DTSTART;TZID=Europe/Rome:20240328T173000
DTEND;TZID=Europe/Rome:20240328T193000
DTSTAMP:20260421T101018
CREATED:20240220T135032Z
LAST-MODIFIED:20240220T135032Z
UID:288-1711647000-1711654200@ordineaslombardia.it
SUMMARY:GRUPPO TERRITORIALE FC DELLA CITTA’ METROPOLITANA DI MILANO
DESCRIPTION:Incontro del Gruppo territoriale FC della Città Metropolitana di Milano\, in sede (sala consiglio)
URL:https://ordineaslombardia.it/eventi/gruppo-territoriale-fc-della-citta-metropolitana-di-milano-2/
END:VEVENT
BEGIN:VEVENT
DTSTART;TZID=Europe/Rome:20240326T170000
DTEND;TZID=Europe/Rome:20240326T190000
DTSTAMP:20260421T101018
CREATED:20240220T134915Z
LAST-MODIFIED:20240220T134915Z
UID:286-1711472400-1711479600@ordineaslombardia.it
SUMMARY:GRUPPO TEMATICO “LAVORO SOCIALE CON I CITTADINI MIGRANTI”
DESCRIPTION:Incontro del Gruppo tematico “Lavoro sociale con i cittadini migranti”\, in sede (sala consiglio)
URL:https://ordineaslombardia.it/eventi/gruppo-tematico-lavoro-sociale-con-i-cittadini-migranti-2/
END:VEVENT
BEGIN:VEVENT
DTSTART;TZID=Europe/Rome:20240321T170000
DTEND;TZID=Europe/Rome:20240321T190000
DTSTAMP:20260421T101018
CREATED:20240220T134725Z
LAST-MODIFIED:20240220T134739Z
UID:284-1711040400-1711047600@ordineaslombardia.it
SUMMARY:GRUPPO TERRITORIALE FC DI BRESCIA
DESCRIPTION:Incontro del gruppo territoriale di supporto alla FC della provincia di BRESCIA\, in videoconferenza (z2)
URL:https://ordineaslombardia.it/eventi/gruppo-territoriale-fc-di-brescia-2/
END:VEVENT
BEGIN:VEVENT
DTSTART;TZID=Europe/Rome:20240318T170000
DTEND;TZID=Europe/Rome:20240318T190000
DTSTAMP:20260421T101018
CREATED:20240220T134629Z
LAST-MODIFIED:20240220T134629Z
UID:282-1710781200-1710788400@ordineaslombardia.it
SUMMARY:INCONTRO GRUPPO ANZIANI
DESCRIPTION:Incontro gruppo anziani in videoconferenza (piattaforma Z2)
URL:https://ordineaslombardia.it/eventi/incontro-gruppo-anziani/
END:VEVENT
BEGIN:VEVENT
DTSTART;TZID=Europe/Rome:20240316T100000
DTEND;TZID=Europe/Rome:20240316T130000
DTSTAMP:20260421T101018
CREATED:20240220T134348Z
LAST-MODIFIED:20240220T134348Z
UID:280-1710583200-1710594000@ordineaslombardia.it
SUMMARY:Collegio CTD
DESCRIPTION:Collegio CTD\, in presenza
URL:https://ordineaslombardia.it/eventi/collegio-ctd-6/
END:VEVENT
BEGIN:VEVENT
DTSTART;TZID=Europe/Rome:20240315T170000
DTEND;TZID=Europe/Rome:20240315T190000
DTSTAMP:20260421T101018
CREATED:20240220T134144Z
LAST-MODIFIED:20240220T134144Z
UID:278-1710522000-1710529200@ordineaslombardia.it
SUMMARY:Collegio CTD
DESCRIPTION:Collegio CTD\, in videoconferenza (piattaforma Z1)
URL:https://ordineaslombardia.it/eventi/collegio-ctd-5/
END:VEVENT
BEGIN:VEVENT
DTSTART;TZID=Europe/Rome:20240315T170000
DTEND;TZID=Europe/Rome:20240315T190000
DTSTAMP:20260421T101018
CREATED:20240220T134038Z
LAST-MODIFIED:20240220T134038Z
UID:276-1710522000-1710529200@ordineaslombardia.it
SUMMARY:GRUPPO TEMATICO Servizio sociale nelle reti di intervento contro la violenza di genere
DESCRIPTION:GRUPPO TEMATICO Servizio sociale nelle reti di intervento contro la violenza di genere\, in videoconferenza (z2)
URL:https://ordineaslombardia.it/eventi/gruppo-tematico-servizio-sociale-nelle-reti-di-intervento-contro-la-violenza-di-genere/
END:VEVENT
BEGIN:VEVENT
DTSTART;TZID=Europe/Rome:20240315T134500
DTEND;TZID=Europe/Rome:20240315T164500
DTSTAMP:20260421T101018
CREATED:20240220T133755Z
LAST-MODIFIED:20240220T133755Z
UID:274-1710510300-1710521100@ordineaslombardia.it
SUMMARY:Gruppo Assistenti sociali Cure Palliative
DESCRIPTION:Incontro del Gruppo Assistenti Sociali Cure Palliative in presenza (sala consiglio) e in videoconferenza (piattaforma Z2)
URL:https://ordineaslombardia.it/eventi/gruppo-assistenti-sociali-cure-palliative/
END:VEVENT
BEGIN:VEVENT
DTSTART;TZID=Europe/Rome:20240314T080000
DTEND;TZID=Europe/Rome:20240314T170000
DTSTAMP:20260421T101018
CREATED:20240312T115523Z
LAST-MODIFIED:20240312T120320Z
UID:2243-1710403200-1710435600@ordineaslombardia.it
SUMMARY:test
DESCRIPTION:test evento
URL:https://ordineaslombardia.it/eventi/test/
CATEGORIES:Appuntamenti esterni
END:VEVENT
BEGIN:VEVENT
DTSTART;TZID=Europe/Rome:20240311T150000
DTEND;TZID=Europe/Rome:20240311T200000
DTSTAMP:20260421T101018
CREATED:20240220T133430Z
LAST-MODIFIED:20240220T133430Z
UID:272-1710169200-1710187200@ordineaslombardia.it
SUMMARY:Seduta del Consiglio regionale n. 3
DESCRIPTION:Seduta del Consiglio regionale n. 3\, presso la sede
URL:https://ordineaslombardia.it/eventi/seduta-del-consiglio-regionale-n-3/
END:VEVENT
BEGIN:VEVENT
DTSTART;TZID=Europe/Rome:20240309T090000
DTEND;TZID=Europe/Rome:20240309T190000
DTSTAMP:20260421T101018
CREATED:20240220T133322Z
LAST-MODIFIED:20240220T133322Z
UID:270-1709974800-1710010800@ordineaslombardia.it
SUMMARY:A.S.Pro.C. Lombardia
DESCRIPTION:Autoformazione iscritti  all’OOP A.S.Pro.C. Lombardia e assemblea annuale\, presso la sede
URL:https://ordineaslombardia.it/eventi/a-s-pro-c-lombardia/
END:VEVENT
BEGIN:VEVENT
DTSTART;TZID=Europe/Rome:20240308T170000
DTEND;TZID=Europe/Rome:20240308T190000
DTSTAMP:20260421T101018
CREATED:20240220T133243Z
LAST-MODIFIED:20240220T133243Z
UID:268-1709917200-1709924400@ordineaslombardia.it
SUMMARY:Collegio CTD
DESCRIPTION:Collegio CTD\, in videoconferenza (piattaforma z1)
URL:https://ordineaslombardia.it/eventi/collegio-ctd-4/
END:VEVENT
BEGIN:VEVENT
DTSTART;TZID=Europe/Rome:20240229T173000
DTEND;TZID=Europe/Rome:20240229T193000
DTSTAMP:20260421T101018
CREATED:20240220T133122Z
LAST-MODIFIED:20240220T133122Z
UID:266-1709227800-1709235000@ordineaslombardia.it
SUMMARY:GRUPPO TERRITORIALE FC DELLA CITTA’ METROPOLITANA DI MILANO
DESCRIPTION:Incontro del Gruppo territoriale FC della Città Metropolitana di Milano\, in sede (sala consiglio)
URL:https://ordineaslombardia.it/eventi/gruppo-territoriale-fc-della-citta-metropolitana-di-milano/
END:VEVENT
BEGIN:VEVENT
DTSTART;TZID=Europe/Rome:20240226T170000
DTEND;TZID=Europe/Rome:20240226T190000
DTSTAMP:20260421T101018
CREATED:20240220T133017Z
LAST-MODIFIED:20240220T133017Z
UID:264-1708966800-1708974000@ordineaslombardia.it
SUMMARY:Collegio CTD
DESCRIPTION:Collegio CTD\, in videoconferenza (piattaforma Z1)
URL:https://ordineaslombardia.it/eventi/collegio-ctd-3/
END:VEVENT
BEGIN:VEVENT
DTSTART;TZID=Europe/Rome:20240223T150000
DTEND;TZID=Europe/Rome:20240223T170000
DTSTAMP:20260421T101018
CREATED:20240220T132211Z
LAST-MODIFIED:20240220T132211Z
UID:256-1708700400-1708707600@ordineaslombardia.it
SUMMARY:Collegio CTD
DESCRIPTION:Collegio CTD\, in videoconferenza (piattaforma z1) \n 
URL:https://ordineaslombardia.it/eventi/collegio-ctd-2/
END:VEVENT
BEGIN:VEVENT
DTSTART;TZID=Europe/Rome:20240223T103000
DTEND;TZID=Europe/Rome:20240223T150000
DTSTAMP:20260421T101018
CREATED:20240220T132003Z
LAST-MODIFIED:20240220T132003Z
UID:254-1708684200-1708700400@ordineaslombardia.it
SUMMARY:Collegio CTD
DESCRIPTION:Collegio CTD\, in videoconferenza (piattaforma z1)
URL:https://ordineaslombardia.it/eventi/collegio-ctd/
END:VEVENT
BEGIN:VEVENT
DTSTART;TZID=Europe/Rome:20240222T170000
DTEND;TZID=Europe/Rome:20240222T190000
DTSTAMP:20260421T101018
CREATED:20240220T132427Z
LAST-MODIFIED:20240220T132427Z
UID:258-1708621200-1708628400@ordineaslombardia.it
SUMMARY:GRUPPO TERRITORIALE FC DI BRESCIA
DESCRIPTION:Incontro del gruppo territoriale di supporto alla FC della provincia di BRESCIA\, in videoconferenza (z2)
URL:https://ordineaslombardia.it/eventi/gruppo-territoriale-fc-di-brescia/
END:VEVENT
BEGIN:VEVENT
DTSTART;TZID=Europe/Rome:20240220T170000
DTEND;TZID=Europe/Rome:20240220T190000
DTSTAMP:20260421T101018
CREATED:20240220T132720Z
LAST-MODIFIED:20240220T132720Z
UID:262-1708448400-1708455600@ordineaslombardia.it
SUMMARY:GRUPPO TEMATICO “LAVORO SOCIALE CON I CITTADINI MIGRANTI”
DESCRIPTION:Incontro del Gruppo tematico “Lavoro sociale con i cittadini migranti”\, in sede (sala consiglio)
URL:https://ordineaslombardia.it/eventi/gruppo-tematico-lavoro-sociale-con-i-cittadini-migranti/
END:VEVENT
BEGIN:VEVENT
DTSTART;TZID=Europe/Rome:20240220T160000
DTEND;TZID=Europe/Rome:20240220T190000
DTSTAMP:20260421T101018
CREATED:20240220T164355Z
LAST-MODIFIED:20240220T164355Z
UID:459-1708444800-1708455600@ordineaslombardia.it
SUMMARY:Collegio di disciplina A1
DESCRIPTION:Collegio di disciplina A1 in videoconferenza (piattaforma z1)
URL:https://ordineaslombardia.it/eventi/collegio-di-disciplina-a1-3/
END:VEVENT
BEGIN:VEVENT
DTSTART;TZID=Europe/Rome:20240217T090000
DTEND;TZID=Europe/Rome:20240217T110000
DTSTAMP:20260421T101018
CREATED:20240220T145018Z
LAST-MODIFIED:20240220T145018Z
UID:338-1708160400-1708167600@ordineaslombardia.it
SUMMARY:CTD
DESCRIPTION:CTD\, in presenza
URL:https://ordineaslombardia.it/eventi/ctd/
END:VEVENT
BEGIN:VEVENT
DTSTART;TZID=Europe/Rome:20240216T180000
DTEND;TZID=Europe/Rome:20240216T200000
DTSTAMP:20260421T101018
CREATED:20240220T145256Z
LAST-MODIFIED:20240220T145256Z
UID:342-1708106400-1708113600@ordineaslombardia.it
SUMMARY:Collegio CTD
DESCRIPTION:Collegio CTD\, in videoconferenza (piattaforma z1)
URL:https://ordineaslombardia.it/eventi/collegio-ctd-15/
END:VEVENT
BEGIN:VEVENT
DTSTART;TZID=Europe/Rome:20240216T170000
DTEND;TZID=Europe/Rome:20240216T190000
DTSTAMP:20260421T101018
CREATED:20240220T145213Z
LAST-MODIFIED:20240220T145213Z
UID:340-1708102800-1708110000@ordineaslombardia.it
SUMMARY:GRUPPO TEMATICO Servizio sociale nelle reti di intervento contro la violenza di genere
DESCRIPTION:GRUPPO TEMATICO Servizio sociale nelle reti di intervento contro la violenza di genere\, in videoconferenza (z2)
URL:https://ordineaslombardia.it/eventi/gruppo-tematico-servizio-sociale-nelle-reti-di-intervento-contro-la-violenza-di-genere-5/
END:VEVENT
BEGIN:VEVENT
DTSTART;TZID=Europe/Rome:20240215T173000
DTEND;TZID=Europe/Rome:20240215T193000
DTSTAMP:20260421T101018
CREATED:20240220T145342Z
LAST-MODIFIED:20240220T145342Z
UID:344-1708018200-1708025400@ordineaslombardia.it
SUMMARY:GRUPPO TERRITORIALE FC DELLA CITTA’ METROPOLITANA DI MILANO
DESCRIPTION:Incontro del Gruppo territoriale FC della Città Metropolitana di Milano\, in sede (sala consiglio)
URL:https://ordineaslombardia.it/eventi/gruppo-territoriale-fc-della-citta-metropolitana-di-milano-3/
END:VEVENT
BEGIN:VEVENT
DTSTART;TZID=Europe/Rome:20240214T110000
DTEND;TZID=Europe/Rome:20240214T130000
DTSTAMP:20260421T101018
CREATED:20240220T145423Z
LAST-MODIFIED:20240220T145423Z
UID:347-1707908400-1707915600@ordineaslombardia.it
SUMMARY:Collegio CTD
DESCRIPTION:Collegio CTD\, in videoconferenza (piattaforma z1)
URL:https://ordineaslombardia.it/eventi/collegio-ctd-16/
END:VEVENT
BEGIN:VEVENT
DTSTART;TZID=Europe/Rome:20240212T170000
DTEND;TZID=Europe/Rome:20240212T190000
DTSTAMP:20260421T101018
CREATED:20240220T145508Z
LAST-MODIFIED:20240220T145508Z
UID:349-1707757200-1707764400@ordineaslombardia.it
SUMMARY:Organizzazione convegno Fragilità Materna
DESCRIPTION:Incontro per l’organizzazione del convegno del gruppo “Fragilità Materne”\, presso la sede.
URL:https://ordineaslombardia.it/eventi/organizzazione-convegno-fragilita-materna/
END:VEVENT
END:VCALENDAR