BEGIN:VCALENDAR
VERSION:2.0
PRODID:-//CROAS Lombardia - ECPv6.15.20//NONSGML v1.0//EN
CALSCALE:GREGORIAN
METHOD:PUBLISH
X-WR-CALNAME:CROAS Lombardia
X-ORIGINAL-URL:https://ordineaslombardia.it
X-WR-CALDESC:Eventi per CROAS Lombardia
REFRESH-INTERVAL;VALUE=DURATION:PT1H
X-Robots-Tag:noindex
X-PUBLISHED-TTL:PT1H
BEGIN:VTIMEZONE
TZID:Europe/Rome
BEGIN:DAYLIGHT
TZOFFSETFROM:+0100
TZOFFSETTO:+0200
TZNAME:CEST
DTSTART:20230326T010000
END:DAYLIGHT
BEGIN:STANDARD
TZOFFSETFROM:+0200
TZOFFSETTO:+0100
TZNAME:CET
DTSTART:20231029T010000
END:STANDARD
BEGIN:DAYLIGHT
TZOFFSETFROM:+0100
TZOFFSETTO:+0200
TZNAME:CEST
DTSTART:20240331T010000
END:DAYLIGHT
BEGIN:STANDARD
TZOFFSETFROM:+0200
TZOFFSETTO:+0100
TZNAME:CET
DTSTART:20241027T010000
END:STANDARD
BEGIN:DAYLIGHT
TZOFFSETFROM:+0100
TZOFFSETTO:+0200
TZNAME:CEST
DTSTART:20250330T010000
END:DAYLIGHT
BEGIN:STANDARD
TZOFFSETFROM:+0200
TZOFFSETTO:+0100
TZNAME:CET
DTSTART:20251026T010000
END:STANDARD
END:VTIMEZONE
BEGIN:VEVENT
DTSTART;TZID=Europe/Rome:20241018T150000
DTEND;TZID=Europe/Rome:20241018T190000
DTSTAMP:20260421T041625
CREATED:20240801T083619Z
LAST-MODIFIED:20240905T145103Z
UID:5052-1729263600-1729278000@ordineaslombardia.it
SUMMARY:Collegio CTD
DESCRIPTION:Collegio CTD\, in videoconferenza (piattaforma z1)
URL:https://ordineaslombardia.it/eventi/collegio-ctd-29/
CATEGORIES:Attività interne
END:VEVENT
BEGIN:VEVENT
DTSTART;TZID=Europe/Rome:20241011T170000
DTEND;TZID=Europe/Rome:20241011T190000
DTSTAMP:20260421T041625
CREATED:20240827T115048Z
LAST-MODIFIED:20240827T115048Z
UID:5182-1728666000-1728673200@ordineaslombardia.it
SUMMARY:GRUPPO TEMATICO "VIOLENZA DI GENERE"
DESCRIPTION:Incontri del Gruppo Tematico “Violenza di Genere”\, da remoto.
URL:https://ordineaslombardia.it/eventi/gruppo-tematico-violenza-di-genere-2/
END:VEVENT
BEGIN:VEVENT
DTSTART;TZID=Europe/Rome:20241004T140000
DTEND;TZID=Europe/Rome:20241004T190000
DTSTAMP:20260421T041625
CREATED:20241003T152255Z
LAST-MODIFIED:20241003T152255Z
UID:5501-1728050400-1728068400@ordineaslombardia.it
SUMMARY:Collegio CTD
DESCRIPTION:Collegio CTD\, in videoconferenza (piattaforma z1)
URL:https://ordineaslombardia.it/eventi/collegio-ctd-39/
CATEGORIES:Attività interne
END:VEVENT
BEGIN:VEVENT
DTSTART;TZID=Europe/Rome:20241004T100000
DTEND;TZID=Europe/Rome:20241004T130000
DTSTAMP:20260421T041625
CREATED:20241002T104208Z
LAST-MODIFIED:20241002T104520Z
UID:5470-1728036000-1728046800@ordineaslombardia.it
SUMMARY:Incontro del Gruppo tematico Protezione Giuridica
DESCRIPTION:Incontro del Gruppo tematico Protezione Giuridica\, in videoconferenza (piattaforma Z2)
URL:https://ordineaslombardia.it/eventi/incontro-del-gruppo-protezione-giuridica/
CATEGORIES:Attività interne
END:VEVENT
BEGIN:VEVENT
DTSTART;TZID=Europe/Rome:20241003T180000
DTEND;TZID=Europe/Rome:20241003T200000
DTSTAMP:20260421T041625
CREATED:20240926T134934Z
LAST-MODIFIED:20240926T134934Z
UID:5436-1727978400-1727985600@ordineaslombardia.it
SUMMARY:INCONTRO DEL GRUPPO TEMATICO PROTEZIONE GIURIDICA
DESCRIPTION:Incontro del gruppo tematico Protezione Giuridica da remoto (piattaforma Z2)
URL:https://ordineaslombardia.it/eventi/incontro-del-gruppo-tematico-protezione-giuridica/
END:VEVENT
BEGIN:VEVENT
DTSTART;TZID=Europe/Rome:20240928T083000
DTEND;TZID=Europe/Rome:20240928T100000
DTSTAMP:20260421T041625
CREATED:20240925T084121Z
LAST-MODIFIED:20240925T084121Z
UID:5418-1727512200-1727517600@ordineaslombardia.it
SUMMARY:Collegio CTD
DESCRIPTION:Collegio CTD\, in videoconferenza (piattaforma z1)
URL:https://ordineaslombardia.it/eventi/collegio-ctd-35/
CATEGORIES:Attività interne
END:VEVENT
BEGIN:VEVENT
DTSTART;TZID=Europe/Rome:20240927T170000
DTEND;TZID=Europe/Rome:20240927T190000
DTSTAMP:20260421T041625
CREATED:20240827T114943Z
LAST-MODIFIED:20240827T114943Z
UID:5180-1727456400-1727463600@ordineaslombardia.it
SUMMARY:GRUPPO TEMATICO "VIOLENZA DI GENERE"
DESCRIPTION:Incontri del Gruppo Tematico “Violenza di Genere”\, da remoto.
URL:https://ordineaslombardia.it/eventi/gruppo-tematico-violenza-di-genere/
END:VEVENT
BEGIN:VEVENT
DTSTART;TZID=Europe/Rome:20240926T190000
DTEND;TZID=Europe/Rome:20240926T220000
DTSTAMP:20260421T041625
CREATED:20240925T084624Z
LAST-MODIFIED:20240925T084624Z
UID:5420-1727377200-1727388000@ordineaslombardia.it
SUMMARY:Collegio CTD
DESCRIPTION:Collegio CTD\, in videoconferenza
URL:https://ordineaslombardia.it/eventi/collegio-ctd-38/
CATEGORIES:Attività interne
END:VEVENT
BEGIN:VEVENT
DTSTART;TZID=Europe/Rome:20240924T170000
DTEND;TZID=Europe/Rome:20240924T190000
DTSTAMP:20260421T041625
CREATED:20240220T143450Z
LAST-MODIFIED:20240220T143450Z
UID:330-1727197200-1727204400@ordineaslombardia.it
SUMMARY:GRUPPO TEMATICO “LAVORO SOCIALE CON I CITTADINI MIGRANTI”
DESCRIPTION:Incontro del Gruppo tematico “Lavoro sociale con i cittadini migranti”\, in sede (sala consiglio)
URL:https://ordineaslombardia.it/eventi/gruppo-tematico-lavoro-sociale-con-i-cittadini-migranti-5/
END:VEVENT
BEGIN:VEVENT
DTSTART;TZID=Europe/Rome:20240924T163000
DTEND;TZID=Europe/Rome:20240924T193000
DTSTAMP:20260421T041625
CREATED:20240919T152333Z
LAST-MODIFIED:20240919T152333Z
UID:5382-1727195400-1727206200@ordineaslombardia.it
SUMMARY:Collegio CTD
DESCRIPTION:Collegio CTD\, in videoconferenza (piattaforma z1)
URL:https://ordineaslombardia.it/eventi/collegio-ctd-37/
CATEGORIES:Attività interne
END:VEVENT
BEGIN:VEVENT
DTSTART;TZID=Europe/Rome:20240923T140000
DTEND;TZID=Europe/Rome:20240923T170000
DTSTAMP:20260421T041625
CREATED:20240909T081147Z
LAST-MODIFIED:20240916T132522Z
UID:5281-1727100000-1727110800@ordineaslombardia.it
SUMMARY:GRUPPO TEMATICO "TUTELA MINORI E FAMIGLIA"
DESCRIPTION:Incontro del Gruppo Tematico “Tutela Minori e Famiglia”\, da remoto (piattaforma Z2).
URL:https://ordineaslombardia.it/eventi/gruppo-tematico-tutela-minori-e-famiglia-2/
END:VEVENT
BEGIN:VEVENT
DTSTART;TZID=Europe/Rome:20240920T173000
DTEND;TZID=Europe/Rome:20240920T200000
DTSTAMP:20260421T041625
CREATED:20240909T083237Z
LAST-MODIFIED:20240909T083501Z
UID:5287-1726853400-1726862400@ordineaslombardia.it
SUMMARY:GRUPPO TERRITORIALE "CITTA' METROPOLITANA DI MILANO"
DESCRIPTION:Incontro del Gruppo Territoriale “Città Metropolitana di Milano”\, in sede (sala consiglio).
URL:https://ordineaslombardia.it/eventi/gruppo-territoriale-citta-metropolitana-di-milano/
END:VEVENT
BEGIN:VEVENT
DTSTART;TZID=Europe/Rome:20240918T153000
DTEND;TZID=Europe/Rome:20240918T183000
DTSTAMP:20260421T041625
CREATED:20240801T084200Z
LAST-MODIFIED:20240801T154610Z
UID:5056-1726673400-1726684200@ordineaslombardia.it
SUMMARY:Collegio CTD
DESCRIPTION:Collegio CTD\, in sede
URL:https://ordineaslombardia.it/eventi/collegio-ctd-31/
CATEGORIES:Attività interne
END:VEVENT
BEGIN:VEVENT
DTSTART;TZID=Europe/Rome:20240916T200000
DTEND;TZID=Europe/Rome:20240916T213000
DTSTAMP:20260421T041625
CREATED:20240916T105146Z
LAST-MODIFIED:20240916T105146Z
UID:5354-1726516800-1726522200@ordineaslombardia.it
SUMMARY:Collegio CTD
DESCRIPTION:Collegio CTD\, in videoconferenza (piattaforma z1)
URL:https://ordineaslombardia.it/eventi/collegio-ctd-36/
CATEGORIES:Attività interne
END:VEVENT
BEGIN:VEVENT
DTSTART;TZID=Europe/Rome:20240916T170000
DTEND;TZID=Europe/Rome:20240916T190000
DTSTAMP:20260421T041625
CREATED:20240826T150916Z
LAST-MODIFIED:20240826T150916Z
UID:5167-1726506000-1726513200@ordineaslombardia.it
SUMMARY:GRUPPO TEMATICO "ANZIANI"
DESCRIPTION:Incontro del Gruppo Tematico “Anziani”\, da remoto.
URL:https://ordineaslombardia.it/eventi/gruppo-tematico-anziani-2/
END:VEVENT
BEGIN:VEVENT
DTSTART;TZID=Europe/Rome:20240909T150000
DTEND;TZID=Europe/Rome:20240909T180000
DTSTAMP:20260421T041625
CREATED:20240826T145159Z
LAST-MODIFIED:20240826T145159Z
UID:5162-1725894000-1725904800@ordineaslombardia.it
SUMMARY:COMMISSIONE PER LA FORMAZIONE CONTINUA
DESCRIPTION:Incontro della Commissione per la Formazione Continua\, in videoconferenza (piattaforma Z2)
URL:https://ordineaslombardia.it/eventi/commissione-per-la-formazione-continua/
END:VEVENT
BEGIN:VEVENT
DTSTART;TZID=Europe/Rome:20240906T170000
DTEND;TZID=Europe/Rome:20240906T193000
DTSTAMP:20260421T041625
CREATED:20240801T083322Z
LAST-MODIFIED:20240801T083322Z
UID:5050-1725642000-1725651000@ordineaslombardia.it
SUMMARY:Collegio CTD
DESCRIPTION:Collegio CTD\, in videoconferenza (piattaforma z1)
URL:https://ordineaslombardia.it/eventi/collegio-ctd-28/
CATEGORIES:Attività interne
END:VEVENT
BEGIN:VEVENT
DTSTART;TZID=Europe/Rome:20240905T163000
DTEND;TZID=Europe/Rome:20240905T183000
DTSTAMP:20260421T041625
CREATED:20240801T131609Z
LAST-MODIFIED:20240801T131609Z
UID:5067-1725553800-1725561000@ordineaslombardia.it
SUMMARY:Collegio CTD
DESCRIPTION:Collegio CTD\, in videoconferenza (piattaforma z1)
URL:https://ordineaslombardia.it/eventi/collegio-ctd-32/
CATEGORIES:Attività interne
END:VEVENT
BEGIN:VEVENT
DTSTART;TZID=Europe/Rome:20240830T170000
DTEND;TZID=Europe/Rome:20240830T200000
DTSTAMP:20260421T041625
CREATED:20240801T083026Z
LAST-MODIFIED:20240801T083026Z
UID:5042-1725037200-1725048000@ordineaslombardia.it
SUMMARY:Collegio CTD
DESCRIPTION:Collegio CTD\, in videoconferenza (piattaforma z1)
URL:https://ordineaslombardia.it/eventi/collegio-ctd-27/
CATEGORIES:Attività interne
END:VEVENT
BEGIN:VEVENT
DTSTART;TZID=Europe/Rome:20240724T170000
DTEND;TZID=Europe/Rome:20240724T190000
DTSTAMP:20260421T041625
CREATED:20240220T143101Z
LAST-MODIFIED:20240220T143101Z
UID:327-1721840400-1721847600@ordineaslombardia.it
SUMMARY:Collegio CTD
DESCRIPTION:Collegio CTD\, in videoconferenza (piattaforma Z1)
URL:https://ordineaslombardia.it/eventi/collegio-ctd-14/
END:VEVENT
BEGIN:VEVENT
DTSTART;TZID=Europe/Rome:20240717T170000
DTEND;TZID=Europe/Rome:20240717T190000
DTSTAMP:20260421T041625
CREATED:20240715T141414Z
LAST-MODIFIED:20240715T141414Z
UID:4816-1721235600-1721242800@ordineaslombardia.it
SUMMARY:Collegio CTD
DESCRIPTION:Collegio CTD\, in videoconferenza (piattaforma z1)
URL:https://ordineaslombardia.it/eventi/collegio-ctd-26/
CATEGORIES:Attività interne
END:VEVENT
BEGIN:VEVENT
DTSTART;TZID=Europe/Rome:20240710T093000
DTEND;TZID=Europe/Rome:20240710T103000
DTSTAMP:20260421T041625
CREATED:20240709T094529Z
LAST-MODIFIED:20240710T124705Z
UID:4734-1720603800-1720607400@ordineaslombardia.it
SUMMARY:Monitoraggio OIV
DESCRIPTION:Incontro per monitoraggio OIV
URL:https://ordineaslombardia.it/eventi/4734/
CATEGORIES:Attività interne
END:VEVENT
BEGIN:VEVENT
DTSTART;TZID=Europe/Rome:20240709T170000
DTEND;TZID=Europe/Rome:20240709T190000
DTSTAMP:20260421T041625
CREATED:20240220T143006Z
LAST-MODIFIED:20240220T143006Z
UID:325-1720544400-1720551600@ordineaslombardia.it
SUMMARY:Collegio CTD
DESCRIPTION:Collegio CTD\, in videoconferenza (piattaforma Z1)
URL:https://ordineaslombardia.it/eventi/collegio-ctd-13/
END:VEVENT
BEGIN:VEVENT
DTSTART;TZID=Europe/Rome:20240704T150000
DTEND;TZID=Europe/Rome:20240704T200000
DTSTAMP:20260421T041625
CREATED:20240220T142558Z
LAST-MODIFIED:20240220T142558Z
UID:323-1720105200-1720123200@ordineaslombardia.it
SUMMARY:Seduta del Consiglio regionale n. 7
DESCRIPTION:Seduta del Consiglio regionale n. 7\, in videoconferenza (piattaforma Z2)
URL:https://ordineaslombardia.it/eventi/seduta-del-consiglio-regionale-n-7/
END:VEVENT
BEGIN:VEVENT
DTSTART;TZID=Europe/Rome:20240626T170000
DTEND;TZID=Europe/Rome:20240626T190000
DTSTAMP:20260421T041625
CREATED:20240220T142510Z
LAST-MODIFIED:20240220T142510Z
UID:321-1719421200-1719428400@ordineaslombardia.it
SUMMARY:Collegio CTD
DESCRIPTION:Collegio CTD\, in videoconferenza (piattaforma Z1)
URL:https://ordineaslombardia.it/eventi/collegio-ctd-12/
END:VEVENT
BEGIN:VEVENT
DTSTART;VALUE=DATE:20240623
DTEND;VALUE=DATE:20240624
DTSTAMP:20260421T041625
CREATED:20240617T142249Z
LAST-MODIFIED:20240617T142249Z
UID:3771-1719100800-1719187199@ordineaslombardia.it
SUMMARY:Esempio evento
DESCRIPTION:testo
URL:https://ordineaslombardia.it/eventi/esempio-evento/
LOCATION:Sede OAS\, Via Saverio Mercadante\, 4\, Milano\, 20124\, Italia
CATEGORIES:Formazione
ATTACH;FMTTYPE=image/png:https://ordineaslombardia.it/wp-content/uploads/2024/06/Schermata-2024-04-25-alle-08.49.13-1-380x254-1.png
ORGANIZER;CN="OAS":MAILTO:mailevento@mail.it
END:VEVENT
BEGIN:VEVENT
DTSTART;TZID=Europe/Rome:20240618T170000
DTEND;TZID=Europe/Rome:20240618T190000
DTSTAMP:20260421T041625
CREATED:20240220T142407Z
LAST-MODIFIED:20240220T142407Z
UID:319-1718730000-1718737200@ordineaslombardia.it
SUMMARY:GRUPPO TEMATICO “LAVORO SOCIALE CON I CITTADINI MIGRANTI”
DESCRIPTION:Incontro del Gruppo tematico “Lavoro sociale con i cittadini migranti”\, in sede (sala consiglio)
URL:https://ordineaslombardia.it/eventi/gruppo-tematico-lavoro-sociale-con-i-cittadini-migranti-4/
END:VEVENT
BEGIN:VEVENT
DTSTART;TZID=Europe/Rome:20240614T170000
DTEND;TZID=Europe/Rome:20240614T190000
DTSTAMP:20260421T041625
CREATED:20240220T141941Z
LAST-MODIFIED:20240220T141941Z
UID:317-1718384400-1718391600@ordineaslombardia.it
SUMMARY:GRUPPO TEMATICO Servizio sociale nelle reti di intervento contro la violenza di genere
DESCRIPTION:GRUPPO TEMATICO Servizio sociale nelle reti di intervento contro la violenza di genere\, in videoconferenza (z2)
URL:https://ordineaslombardia.it/eventi/gruppo-tematico-servizio-sociale-nelle-reti-di-intervento-contro-la-violenza-di-genere-4/
END:VEVENT
BEGIN:VEVENT
DTSTART;TZID=Europe/Rome:20240613T170000
DTEND;TZID=Europe/Rome:20240613T190000
DTSTAMP:20260421T041625
CREATED:20240220T141851Z
LAST-MODIFIED:20240220T141851Z
UID:315-1718298000-1718305200@ordineaslombardia.it
SUMMARY:Collegio CTD
DESCRIPTION:Collegio CTD\, in videoconferenza (piattaforma Z1)
URL:https://ordineaslombardia.it/eventi/collegio-ctd-11/
END:VEVENT
BEGIN:VEVENT
DTSTART;TZID=Europe/Rome:20240603T150000
DTEND;TZID=Europe/Rome:20240603T200000
DTSTAMP:20260421T041625
CREATED:20240220T141639Z
LAST-MODIFIED:20240220T141639Z
UID:313-1717426800-1717444800@ordineaslombardia.it
SUMMARY:Seduta del Consiglio regionale n. 6
DESCRIPTION:Seduta del Consiglio regionale n. 6\, presso la sede
URL:https://ordineaslombardia.it/eventi/seduta-del-consiglio-regionale-n-6/
END:VEVENT
END:VCALENDAR