BEGIN:VCALENDAR
VERSION:2.0
PRODID:-//CROAS Lombardia - ECPv6.15.20//NONSGML v1.0//EN
CALSCALE:GREGORIAN
METHOD:PUBLISH
X-ORIGINAL-URL:https://ordineaslombardia.it
X-WR-CALDESC:Eventi per CROAS Lombardia
REFRESH-INTERVAL;VALUE=DURATION:PT1H
X-Robots-Tag:noindex
X-PUBLISHED-TTL:PT1H
BEGIN:VTIMEZONE
TZID:Europe/Rome
BEGIN:DAYLIGHT
TZOFFSETFROM:+0100
TZOFFSETTO:+0200
TZNAME:CEST
DTSTART:20230326T010000
END:DAYLIGHT
BEGIN:STANDARD
TZOFFSETFROM:+0200
TZOFFSETTO:+0100
TZNAME:CET
DTSTART:20231029T010000
END:STANDARD
BEGIN:DAYLIGHT
TZOFFSETFROM:+0100
TZOFFSETTO:+0200
TZNAME:CEST
DTSTART:20240331T010000
END:DAYLIGHT
BEGIN:STANDARD
TZOFFSETFROM:+0200
TZOFFSETTO:+0100
TZNAME:CET
DTSTART:20241027T010000
END:STANDARD
BEGIN:DAYLIGHT
TZOFFSETFROM:+0100
TZOFFSETTO:+0200
TZNAME:CEST
DTSTART:20250330T010000
END:DAYLIGHT
BEGIN:STANDARD
TZOFFSETFROM:+0200
TZOFFSETTO:+0100
TZNAME:CET
DTSTART:20251026T010000
END:STANDARD
END:VTIMEZONE
BEGIN:VEVENT
DTSTART;TZID=Europe/Rome:20240916T200000
DTEND;TZID=Europe/Rome:20240916T213000
DTSTAMP:20260421T040757
CREATED:20240916T105146Z
LAST-MODIFIED:20240916T105146Z
UID:5354-1726516800-1726522200@ordineaslombardia.it
SUMMARY:Collegio CTD
DESCRIPTION:Collegio CTD\, in videoconferenza (piattaforma z1)
URL:https://ordineaslombardia.it/eventi/collegio-ctd-36/
CATEGORIES:Attività interne
END:VEVENT
BEGIN:VEVENT
DTSTART;TZID=Europe/Rome:20240906T170000
DTEND;TZID=Europe/Rome:20240906T193000
DTSTAMP:20260421T040757
CREATED:20240801T083322Z
LAST-MODIFIED:20240801T083322Z
UID:5050-1725642000-1725651000@ordineaslombardia.it
SUMMARY:Collegio CTD
DESCRIPTION:Collegio CTD\, in videoconferenza (piattaforma z1)
URL:https://ordineaslombardia.it/eventi/collegio-ctd-28/
CATEGORIES:Attività interne
END:VEVENT
BEGIN:VEVENT
DTSTART;TZID=Europe/Rome:20240905T163000
DTEND;TZID=Europe/Rome:20240905T183000
DTSTAMP:20260421T040757
CREATED:20240801T131609Z
LAST-MODIFIED:20240801T131609Z
UID:5067-1725553800-1725561000@ordineaslombardia.it
SUMMARY:Collegio CTD
DESCRIPTION:Collegio CTD\, in videoconferenza (piattaforma z1)
URL:https://ordineaslombardia.it/eventi/collegio-ctd-32/
CATEGORIES:Attività interne
END:VEVENT
BEGIN:VEVENT
DTSTART;TZID=Europe/Rome:20240830T170000
DTEND;TZID=Europe/Rome:20240830T200000
DTSTAMP:20260421T040757
CREATED:20240801T083026Z
LAST-MODIFIED:20240801T083026Z
UID:5042-1725037200-1725048000@ordineaslombardia.it
SUMMARY:Collegio CTD
DESCRIPTION:Collegio CTD\, in videoconferenza (piattaforma z1)
URL:https://ordineaslombardia.it/eventi/collegio-ctd-27/
CATEGORIES:Attività interne
END:VEVENT
BEGIN:VEVENT
DTSTART;TZID=Europe/Rome:20240717T170000
DTEND;TZID=Europe/Rome:20240717T190000
DTSTAMP:20260421T040757
CREATED:20240715T141414Z
LAST-MODIFIED:20240715T141414Z
UID:4816-1721235600-1721242800@ordineaslombardia.it
SUMMARY:Collegio CTD
DESCRIPTION:Collegio CTD\, in videoconferenza (piattaforma z1)
URL:https://ordineaslombardia.it/eventi/collegio-ctd-26/
CATEGORIES:Attività interne
END:VEVENT
BEGIN:VEVENT
DTSTART;TZID=Europe/Rome:20240710T093000
DTEND;TZID=Europe/Rome:20240710T103000
DTSTAMP:20260421T040757
CREATED:20240709T094529Z
LAST-MODIFIED:20240710T124705Z
UID:4734-1720603800-1720607400@ordineaslombardia.it
SUMMARY:Monitoraggio OIV
DESCRIPTION:Incontro per monitoraggio OIV
URL:https://ordineaslombardia.it/eventi/4734/
CATEGORIES:Attività interne
END:VEVENT
END:VCALENDAR