BEGIN:VCALENDAR
VERSION:2.0
PRODID:-//CROAS Lombardia - ECPv6.15.20//NONSGML v1.0//EN
CALSCALE:GREGORIAN
METHOD:PUBLISH
X-WR-CALNAME:CROAS Lombardia
X-ORIGINAL-URL:https://ordineaslombardia.it
X-WR-CALDESC:Eventi per CROAS Lombardia
REFRESH-INTERVAL;VALUE=DURATION:PT1H
X-Robots-Tag:noindex
X-PUBLISHED-TTL:PT1H
BEGIN:VTIMEZONE
TZID:Europe/Rome
BEGIN:DAYLIGHT
TZOFFSETFROM:+0100
TZOFFSETTO:+0200
TZNAME:CEST
DTSTART:20230326T010000
END:DAYLIGHT
BEGIN:STANDARD
TZOFFSETFROM:+0200
TZOFFSETTO:+0100
TZNAME:CET
DTSTART:20231029T010000
END:STANDARD
BEGIN:DAYLIGHT
TZOFFSETFROM:+0100
TZOFFSETTO:+0200
TZNAME:CEST
DTSTART:20240331T010000
END:DAYLIGHT
BEGIN:STANDARD
TZOFFSETFROM:+0200
TZOFFSETTO:+0100
TZNAME:CET
DTSTART:20241027T010000
END:STANDARD
BEGIN:DAYLIGHT
TZOFFSETFROM:+0100
TZOFFSETTO:+0200
TZNAME:CEST
DTSTART:20250330T010000
END:DAYLIGHT
BEGIN:STANDARD
TZOFFSETFROM:+0200
TZOFFSETTO:+0100
TZNAME:CET
DTSTART:20251026T010000
END:STANDARD
BEGIN:DAYLIGHT
TZOFFSETFROM:+0100
TZOFFSETTO:+0200
TZNAME:CEST
DTSTART:20260329T010000
END:DAYLIGHT
BEGIN:STANDARD
TZOFFSETFROM:+0200
TZOFFSETTO:+0100
TZNAME:CET
DTSTART:20261025T010000
END:STANDARD
END:VTIMEZONE
BEGIN:VEVENT
DTSTART;TZID=Europe/Rome:20250228T170000
DTEND;TZID=Europe/Rome:20250228T190000
DTSTAMP:20260420T225103
CREATED:20250214T140107Z
LAST-MODIFIED:20250214T140107Z
UID:6529-1740762000-1740769200@ordineaslombardia.it
SUMMARY:Collegio CTD
DESCRIPTION:Collegio CTD\, in videoconferenza (piattaforma z1)
URL:https://ordineaslombardia.it/eventi/collegio-ctd-66/
CATEGORIES:Attività interne
END:VEVENT
BEGIN:VEVENT
DTSTART;TZID=Europe/Rome:20250218T170000
DTEND;TZID=Europe/Rome:20250218T190000
DTSTAMP:20260420T225103
CREATED:20250130T150636Z
LAST-MODIFIED:20250130T150636Z
UID:6424-1739898000-1739905200@ordineaslombardia.it
SUMMARY:INCONTRO DEL GRUPPO TEMATICO "LAVORO SOCIALE CON I CITTADINI MIGRANTI"
DESCRIPTION:Incontro del gruppo Tematico “Lavoro sociale con i cittadini migranti” \, in sede (sala consiglio)
URL:https://ordineaslombardia.it/eventi/incontro-del-gruppo-tematico-lavoro-sociale-con-i-cittadini-migranti/
CATEGORIES:Attività interne
END:VEVENT
BEGIN:VEVENT
DTSTART;TZID=Europe/Rome:20250217T203000
DTEND;TZID=Europe/Rome:20250217T223000
DTSTAMP:20260420T225103
CREATED:20250214T135735Z
LAST-MODIFIED:20250214T135735Z
UID:6525-1739824200-1739831400@ordineaslombardia.it
SUMMARY:Collegio CTD
DESCRIPTION:Collegio CTD\, in videoconferenza (piattaforma z1)
URL:https://ordineaslombardia.it/eventi/collegio-ctd-64/
CATEGORIES:Attività interne
END:VEVENT
BEGIN:VEVENT
DTSTART;TZID=Europe/Rome:20250214T140000
DTEND;TZID=Europe/Rome:20250214T160000
DTSTAMP:20260420T225103
CREATED:20250214T140009Z
LAST-MODIFIED:20250214T140009Z
UID:6527-1739541600-1739548800@ordineaslombardia.it
SUMMARY:Collegio CTD
DESCRIPTION:Collegio CTD\, in videoconferenza (piattaforma z1)
URL:https://ordineaslombardia.it/eventi/collegio-ctd-65/
CATEGORIES:Attività interne
END:VEVENT
BEGIN:VEVENT
DTSTART;TZID=Europe/Rome:20250213T173000
DTEND;TZID=Europe/Rome:20250213T190000
DTSTAMP:20260420T225103
CREATED:20250131T150347Z
LAST-MODIFIED:20250131T150347Z
UID:6448-1739467800-1739473200@ordineaslombardia.it
SUMMARY:Collegio CTD
DESCRIPTION:Collegio CTD\, in videoconferenza (piattaforma z1)
URL:https://ordineaslombardia.it/eventi/collegio-ctd-62/
CATEGORIES:Attività interne
END:VEVENT
BEGIN:VEVENT
DTSTART;TZID=Europe/Rome:20250205T180000
DTEND;TZID=Europe/Rome:20250205T200000
DTSTAMP:20260420T225103
CREATED:20250214T135618Z
LAST-MODIFIED:20250214T135618Z
UID:6523-1738778400-1738785600@ordineaslombardia.it
SUMMARY:Collegio CTD
DESCRIPTION:Collegio CTD\, in videoconferenza (piattaforma z1)
URL:https://ordineaslombardia.it/eventi/collegio-ctd-63/
CATEGORIES:Attività interne
END:VEVENT
BEGIN:VEVENT
DTSTART;TZID=Europe/Rome:20250131T183000
DTEND;TZID=Europe/Rome:20250131T193000
DTSTAMP:20260420T225103
CREATED:20250131T150246Z
LAST-MODIFIED:20250131T150246Z
UID:6446-1738348200-1738351800@ordineaslombardia.it
SUMMARY:Collegio CTD
DESCRIPTION:Collegio CTD\, in videoconferenza (piattaforma z1)
URL:https://ordineaslombardia.it/eventi/collegio-ctd-61/
CATEGORIES:Attività interne
END:VEVENT
BEGIN:VEVENT
DTSTART;TZID=Europe/Rome:20250131T170000
DTEND;TZID=Europe/Rome:20250131T180000
DTSTAMP:20260420T225103
CREATED:20250131T150151Z
LAST-MODIFIED:20250131T150151Z
UID:6444-1738342800-1738346400@ordineaslombardia.it
SUMMARY:Collegio CTD
DESCRIPTION:Collegio CTD\, in videoconferenza (piattaforma z1)
URL:https://ordineaslombardia.it/eventi/collegio-ctd-60/
CATEGORIES:Attività interne
END:VEVENT
BEGIN:VEVENT
DTSTART;TZID=Europe/Rome:20250127T173000
DTEND;TZID=Europe/Rome:20250127T193000
DTSTAMP:20260420T225103
CREATED:20250120T115509Z
LAST-MODIFIED:20250120T115509Z
UID:6303-1737999000-1738006200@ordineaslombardia.it
SUMMARY:Collegio CTD
DESCRIPTION:Collegio CTD\, in videoconferenza (piattaforma z1)
URL:https://ordineaslombardia.it/eventi/collegio-ctd-58/
CATEGORIES:Attività interne
END:VEVENT
BEGIN:VEVENT
DTSTART;TZID=Europe/Rome:20250124T140000
DTEND;TZID=Europe/Rome:20250124T190000
DTSTAMP:20260420T225103
CREATED:20241003T152519Z
LAST-MODIFIED:20241003T152519Z
UID:5503-1737727200-1737745200@ordineaslombardia.it
SUMMARY:Collegio CTD
DESCRIPTION:Collegio CTD\, in videoconferenza (piattaforma z1)
URL:https://ordineaslombardia.it/eventi/collegio-ctd-40/
CATEGORIES:Attività interne
END:VEVENT
BEGIN:VEVENT
DTSTART;TZID=Europe/Rome:20250124T140000
DTEND;TZID=Europe/Rome:20250124T163000
DTSTAMP:20260420T225103
CREATED:20250124T124900Z
LAST-MODIFIED:20250124T124900Z
UID:6367-1737727200-1737736200@ordineaslombardia.it
SUMMARY:Collegio CTD
DESCRIPTION:Collegio CTD\, in videoconferenza (piattaforma z1)
URL:https://ordineaslombardia.it/eventi/collegio-ctd-59/
CATEGORIES:Attività interne
END:VEVENT
BEGIN:VEVENT
DTSTART;TZID=Europe/Rome:20250115T160000
DTEND;TZID=Europe/Rome:20250115T173000
DTSTAMP:20260420T225103
CREATED:20250113T155758Z
LAST-MODIFIED:20250113T155758Z
UID:6239-1736956800-1736962200@ordineaslombardia.it
SUMMARY:Collegio CTD
DESCRIPTION:Collegio CTD\, in videoconferenza (piattaforma z1)
URL:https://ordineaslombardia.it/eventi/collegio-ctd-57/
CATEGORIES:Attività interne
END:VEVENT
BEGIN:VEVENT
DTSTART;TZID=Europe/Rome:20250110T173000
DTEND;TZID=Europe/Rome:20250110T193000
DTSTAMP:20260420T225103
CREATED:20250108T145826Z
LAST-MODIFIED:20250108T145826Z
UID:6205-1736530200-1736537400@ordineaslombardia.it
SUMMARY:Collegio CTD
DESCRIPTION:Collegio CTD\, in videoconferenza (piattaforma z1)
URL:https://ordineaslombardia.it/eventi/collegio-ctd-56/
CATEGORIES:Attività interne
END:VEVENT
BEGIN:VEVENT
DTSTART;TZID=Europe/Rome:20241230T200000
DTEND;TZID=Europe/Rome:20241230T220000
DTSTAMP:20260420T225103
CREATED:20241118T121820Z
LAST-MODIFIED:20241202T155155Z
UID:5823-1735588800-1735596000@ordineaslombardia.it
SUMMARY:Collegio CTD
DESCRIPTION:Collegio CTD\, in videoconferenza (piattaforma z1)
URL:https://ordineaslombardia.it/eventi/collegio-ctd-45/
CATEGORIES:Attività interne
END:VEVENT
BEGIN:VEVENT
DTSTART;TZID=Europe/Rome:20241227T133000
DTEND;TZID=Europe/Rome:20241227T150000
DTSTAMP:20260420T225103
CREATED:20241223T101806Z
LAST-MODIFIED:20241223T101806Z
UID:6159-1735306200-1735311600@ordineaslombardia.it
SUMMARY:Collegio CTD
DESCRIPTION:Collegio CTD\, in videoconferenza (piattaforma z1)
URL:https://ordineaslombardia.it/eventi/collegio-ctd-55/
CATEGORIES:Attività interne
END:VEVENT
BEGIN:VEVENT
DTSTART;TZID=Europe/Rome:20241223T123000
DTEND;TZID=Europe/Rome:20241223T143000
DTSTAMP:20260420T225103
CREATED:20241223T101645Z
LAST-MODIFIED:20241223T101645Z
UID:6157-1734957000-1734964200@ordineaslombardia.it
SUMMARY:Collegio CTD
DESCRIPTION:Collegio CTD\, in videoconferenza (piattaforma z1)
URL:https://ordineaslombardia.it/eventi/collegio-ctd-49/
CATEGORIES:Attività interne
END:VEVENT
BEGIN:VEVENT
DTSTART;TZID=Europe/Rome:20241220T143000
DTEND;TZID=Europe/Rome:20241220T180000
DTSTAMP:20260420T225103
CREATED:20240911T083823Z
LAST-MODIFIED:20240911T083823Z
UID:5313-1734705000-1734717600@ordineaslombardia.it
SUMMARY:Collegio CTD
DESCRIPTION:Collegio CTD\, in videoconferenza (piattaforma z1)
URL:https://ordineaslombardia.it/eventi/collegio-ctd-33/
CATEGORIES:Attività interne
END:VEVENT
BEGIN:VEVENT
DTSTART;TZID=Europe/Rome:20241219T140000
DTEND;TZID=Europe/Rome:20241219T160000
DTSTAMP:20260420T225103
CREATED:20241118T121708Z
LAST-MODIFIED:20241118T121708Z
UID:5821-1734616800-1734624000@ordineaslombardia.it
SUMMARY:Collegio CTD
DESCRIPTION:Collegio CTD\, in videoconferenza (piattaforma z1)
URL:https://ordineaslombardia.it/eventi/collegio-ctd-44/
CATEGORIES:Attività interne
END:VEVENT
BEGIN:VEVENT
DTSTART;TZID=Europe/Rome:20241217T130000
DTEND;TZID=Europe/Rome:20241217T150000
DTSTAMP:20260420T225103
CREATED:20241216T135455Z
LAST-MODIFIED:20241216T135455Z
UID:6094-1734440400-1734447600@ordineaslombardia.it
SUMMARY:Collegio CTD
DESCRIPTION:Collegio CTD\, in videoconferenza (piattaforma z1)
URL:https://ordineaslombardia.it/eventi/collegio-ctd-54/
CATEGORIES:Attività interne
END:VEVENT
BEGIN:VEVENT
DTSTART;TZID=Europe/Rome:20241216T170000
DTEND;TZID=Europe/Rome:20241216T190000
DTSTAMP:20260420T225103
CREATED:20241212T102955Z
LAST-MODIFIED:20241212T102955Z
UID:6069-1734368400-1734375600@ordineaslombardia.it
SUMMARY:Collegio CTD
DESCRIPTION:Collegio CTD\, in videoconferenza (piattaforma z1)
URL:https://ordineaslombardia.it/eventi/collegio-ctd-52/
CATEGORIES:Attività interne
END:VEVENT
BEGIN:VEVENT
DTSTART;TZID=Europe/Rome:20241213T180000
DTEND;TZID=Europe/Rome:20241213T200000
DTSTAMP:20260420T225103
CREATED:20241212T095859Z
LAST-MODIFIED:20241212T095859Z
UID:6066-1734112800-1734120000@ordineaslombardia.it
SUMMARY:Collegio CTD
DESCRIPTION:Collegio CTD\, in videoconferenza (piattaforma z1)
URL:https://ordineaslombardia.it/eventi/collegio-ctd-51/
CATEGORIES:Attività interne
END:VEVENT
BEGIN:VEVENT
DTSTART;TZID=Europe/Rome:20241211T200000
DTEND;TZID=Europe/Rome:20241211T220000
DTSTAMP:20260420T225103
CREATED:20241206T140733Z
LAST-MODIFIED:20241206T140733Z
UID:6023-1733947200-1733954400@ordineaslombardia.it
SUMMARY:Collegio CTD
DESCRIPTION:Collegio CTD\, in videoconferenza (piattaforma z1)
URL:https://ordineaslombardia.it/eventi/collegio-ctd-50/
CATEGORIES:Attività interne
END:VEVENT
BEGIN:VEVENT
DTSTART;TZID=Europe/Rome:20241211T200000
DTEND;TZID=Europe/Rome:20241211T220000
DTSTAMP:20260420T225103
CREATED:20241118T121449Z
LAST-MODIFIED:20241118T121449Z
UID:5819-1733947200-1733954400@ordineaslombardia.it
SUMMARY:Collegio CTD
DESCRIPTION:Collegio CTD\, in videoconferenza (piattaforma z1)
URL:https://ordineaslombardia.it/eventi/collegio-ctd-43/
CATEGORIES:Attività interne
END:VEVENT
BEGIN:VEVENT
DTSTART;TZID=Europe/Rome:20241206T170000
DTEND;TZID=Europe/Rome:20241206T190000
DTSTAMP:20260420T225103
CREATED:20241202T155505Z
LAST-MODIFIED:20241202T155505Z
UID:5988-1733504400-1733511600@ordineaslombardia.it
SUMMARY:Collegio CTD
DESCRIPTION:Collegio CTD\, in videoconferenza (piattaforma z1)
URL:https://ordineaslombardia.it/eventi/collegio-ctd-46/
CATEGORIES:Attività interne
END:VEVENT
BEGIN:VEVENT
DTSTART;TZID=Europe/Rome:20241128T170000
DTEND;TZID=Europe/Rome:20241128T200000
DTSTAMP:20260420T225103
CREATED:20241202T160801Z
LAST-MODIFIED:20241202T160801Z
UID:5992-1732813200-1732824000@ordineaslombardia.it
SUMMARY:Collegio CTD
DESCRIPTION:Collegio CTD\, in videoconferenza (piattaforma z1)
URL:https://ordineaslombardia.it/eventi/collegio-ctd-48/
CATEGORIES:Attività interne
END:VEVENT
BEGIN:VEVENT
DTSTART;TZID=Europe/Rome:20241122T170000
DTEND;TZID=Europe/Rome:20241122T190000
DTSTAMP:20260420T225103
CREATED:20240905T150030Z
LAST-MODIFIED:20240905T150030Z
UID:5238-1732294800-1732302000@ordineaslombardia.it
SUMMARY:Collegio CTD
DESCRIPTION:Collegio CTD\, in videoconferenza (piattaforma z1)
URL:https://ordineaslombardia.it/eventi/collegio-ctd-34/
CATEGORIES:Attività interne
END:VEVENT
BEGIN:VEVENT
DTSTART;TZID=Europe/Rome:20241113T200000
DTEND;TZID=Europe/Rome:20241113T220000
DTSTAMP:20260420T225103
CREATED:20241118T121140Z
LAST-MODIFIED:20241118T121523Z
UID:5817-1731528000-1731535200@ordineaslombardia.it
SUMMARY:Collegio CTD
DESCRIPTION:Collegio CTD\, in videoconferenza (piattaforma z1)
URL:https://ordineaslombardia.it/eventi/collegio-ctd-42/
CATEGORIES:Attività interne
END:VEVENT
BEGIN:VEVENT
DTSTART;TZID=Europe/Rome:20241113T163000
DTEND;TZID=Europe/Rome:20241113T183000
DTSTAMP:20260420T225103
CREATED:20241118T121017Z
LAST-MODIFIED:20241118T121017Z
UID:5815-1731515400-1731522600@ordineaslombardia.it
SUMMARY:Collegio CTD
DESCRIPTION:Collegio CTD\, in videoconferenza (piattaforma z2)
URL:https://ordineaslombardia.it/eventi/collegio-ctd-41/
CATEGORIES:Attività interne
END:VEVENT
BEGIN:VEVENT
DTSTART;TZID=Europe/Rome:20241108T170000
DTEND;TZID=Europe/Rome:20241108T190000
DTSTAMP:20260420T225103
CREATED:20240801T083857Z
LAST-MODIFIED:20240905T145649Z
UID:5054-1731085200-1731092400@ordineaslombardia.it
SUMMARY:Collegio CTD
DESCRIPTION:Collegio CTD\, in videoconferenza (piattaforma z1)
URL:https://ordineaslombardia.it/eventi/collegio-ctd-30/
CATEGORIES:Attività interne
END:VEVENT
BEGIN:VEVENT
DTSTART;TZID=Europe/Rome:20241018T150000
DTEND;TZID=Europe/Rome:20241018T190000
DTSTAMP:20260420T225103
CREATED:20240801T083619Z
LAST-MODIFIED:20240905T145103Z
UID:5052-1729263600-1729278000@ordineaslombardia.it
SUMMARY:Collegio CTD
DESCRIPTION:Collegio CTD\, in videoconferenza (piattaforma z1)
URL:https://ordineaslombardia.it/eventi/collegio-ctd-29/
CATEGORIES:Attività interne
END:VEVENT
END:VCALENDAR