BEGIN:VCALENDAR
VERSION:2.0
PRODID:-//CROAS Lombardia - ECPv6.15.20//NONSGML v1.0//EN
CALSCALE:GREGORIAN
METHOD:PUBLISH
X-ORIGINAL-URL:https://ordineaslombardia.it
X-WR-CALDESC:Eventi per CROAS Lombardia
REFRESH-INTERVAL;VALUE=DURATION:PT1H
X-Robots-Tag:noindex
X-PUBLISHED-TTL:PT1H
BEGIN:VTIMEZONE
TZID:Europe/Rome
BEGIN:DAYLIGHT
TZOFFSETFROM:+0100
TZOFFSETTO:+0200
TZNAME:CEST
DTSTART:20240331T010000
END:DAYLIGHT
BEGIN:STANDARD
TZOFFSETFROM:+0200
TZOFFSETTO:+0100
TZNAME:CET
DTSTART:20241027T010000
END:STANDARD
BEGIN:DAYLIGHT
TZOFFSETFROM:+0100
TZOFFSETTO:+0200
TZNAME:CEST
DTSTART:20250330T010000
END:DAYLIGHT
BEGIN:STANDARD
TZOFFSETFROM:+0200
TZOFFSETTO:+0100
TZNAME:CET
DTSTART:20251026T010000
END:STANDARD
BEGIN:DAYLIGHT
TZOFFSETFROM:+0100
TZOFFSETTO:+0200
TZNAME:CEST
DTSTART:20260329T010000
END:DAYLIGHT
BEGIN:STANDARD
TZOFFSETFROM:+0200
TZOFFSETTO:+0100
TZNAME:CET
DTSTART:20261025T010000
END:STANDARD
END:VTIMEZONE
BEGIN:VEVENT
DTSTART;TZID=Europe/Rome:20250617T170000
DTEND;TZID=Europe/Rome:20250617T190000
DTSTAMP:20260420T191109
CREATED:20250130T151109Z
LAST-MODIFIED:20250130T151109Z
UID:6432-1750179600-1750186800@ordineaslombardia.it
SUMMARY:INCONTRO DEL GRUPPO TEMATICO "LAVORO SOCIALE CON I CITTADINI MIGRANTI"
DESCRIPTION:Incontro del gruppo Tematico “Lavoro sociale con i cittadini migranti”\, in sede (sala consiglio)
URL:https://ordineaslombardia.it/eventi/incontro-del-gruppo-tematico-lavoro-sociale-con-i-cittadini-migranti-5/
CATEGORIES:Attività interne
END:VEVENT
BEGIN:VEVENT
DTSTART;TZID=Europe/Rome:20250613T170000
DTEND;TZID=Europe/Rome:20250613T190000
DTSTAMP:20260420T191109
CREATED:20250610T102827Z
LAST-MODIFIED:20250610T102827Z
UID:7829-1749834000-1749841200@ordineaslombardia.it
SUMMARY:Collegio CTD
DESCRIPTION:Collegio CTD\, in videoconferenza (piattaforma z1)
URL:https://ordineaslombardia.it/eventi/collegio-ctd-84/
CATEGORIES:Attività interne
END:VEVENT
BEGIN:VEVENT
DTSTART;TZID=Europe/Rome:20250611T200000
DTEND;TZID=Europe/Rome:20250611T220000
DTSTAMP:20260420T191109
CREATED:20250613T120218Z
LAST-MODIFIED:20250613T120218Z
UID:7852-1749672000-1749679200@ordineaslombardia.it
SUMMARY:Collegio CTD
DESCRIPTION:Collegio CTD\, in videoconferenza (piattaforma z1)
URL:https://ordineaslombardia.it/eventi/collegio-ctd-85/
CATEGORIES:Attività interne
END:VEVENT
BEGIN:VEVENT
DTSTART;TZID=Europe/Rome:20250611T160000
DTEND;TZID=Europe/Rome:20250611T180000
DTSTAMP:20260420T191109
CREATED:20250613T120340Z
LAST-MODIFIED:20250613T120340Z
UID:7854-1749657600-1749664800@ordineaslombardia.it
SUMMARY:CTD\, Ufficio di coordinamento e supporto
DESCRIPTION:CTD\, Ufficio di coordinamento e supporto\, in videoconferenza
URL:https://ordineaslombardia.it/eventi/ctd-ufficio-di-coordinamento-e-supporto-3/
CATEGORIES:Attività interne
END:VEVENT
BEGIN:VEVENT
DTSTART;TZID=Europe/Rome:20250527T170000
DTEND;TZID=Europe/Rome:20250527T190000
DTSTAMP:20260420T191109
CREATED:20250130T151000Z
LAST-MODIFIED:20250130T151000Z
UID:6430-1748365200-1748372400@ordineaslombardia.it
SUMMARY:INCONTRO DEL GRUPPO TEMATICO "LAVORO SOCIALE CON I CITTADINI MIGRANTI"
DESCRIPTION:Incontro del gruppo Tematico “Lavoro sociale con i cittadini migranti”\, in sede (sala consiglio)
URL:https://ordineaslombardia.it/eventi/incontro-del-gruppo-tematico-lavoro-sociale-con-i-cittadini-migranti-4/
CATEGORIES:Attività interne
END:VEVENT
BEGIN:VEVENT
DTSTART;TZID=Europe/Rome:20250523T170000
DTEND;TZID=Europe/Rome:20250523T190000
DTSTAMP:20260420T191109
CREATED:20250520T135745Z
LAST-MODIFIED:20250520T135745Z
UID:7648-1748019600-1748026800@ordineaslombardia.it
SUMMARY:Collegio CTD
DESCRIPTION:Collegio CTD\, in videoconferenza (piattaforma z1)
URL:https://ordineaslombardia.it/eventi/collegio-ctd-82/
CATEGORIES:Attività interne
END:VEVENT
BEGIN:VEVENT
DTSTART;TZID=Europe/Rome:20250512T200000
DTEND;TZID=Europe/Rome:20250512T220000
DTSTAMP:20260420T191109
CREATED:20250513T075152Z
LAST-MODIFIED:20250513T075152Z
UID:7530-1747080000-1747087200@ordineaslombardia.it
SUMMARY:Collegio CTD
DESCRIPTION:Collegio CTD\, in videoconferenza (piattaforma z1)
URL:https://ordineaslombardia.it/eventi/collegio-ctd-81/
CATEGORIES:Attività interne
END:VEVENT
BEGIN:VEVENT
DTSTART;TZID=Europe/Rome:20250512T173000
DTEND;TZID=Europe/Rome:20250512T193000
DTSTAMP:20260420T191109
CREATED:20250513T075336Z
LAST-MODIFIED:20250513T081557Z
UID:7532-1747071000-1747078200@ordineaslombardia.it
SUMMARY:CTD - Ufficio di coordinamento e supporto
DESCRIPTION:CTD – Ufficio di coordinamento e supporto. In videoconferenza (piattaforma z1)
URL:https://ordineaslombardia.it/eventi/ctd-ufficio-di-coordinamento-e-supporto-2/
CATEGORIES:Attività interne
END:VEVENT
BEGIN:VEVENT
DTSTART;TZID=Europe/Rome:20250509T173000
DTEND;TZID=Europe/Rome:20250509T190000
DTSTAMP:20260420T191109
CREATED:20250428T145700Z
LAST-MODIFIED:20250428T145700Z
UID:7380-1746811800-1746817200@ordineaslombardia.it
SUMMARY:Collegio CTD
DESCRIPTION:Collegio CTD\, in videoconferenza (piattaforma z1)
URL:https://ordineaslombardia.it/eventi/collegio-ctd-79/
CATEGORIES:Attività interne
END:VEVENT
BEGIN:VEVENT
DTSTART;TZID=Europe/Rome:20250509T163000
DTEND;TZID=Europe/Rome:20250509T183000
DTSTAMP:20260420T191109
CREATED:20250428T145338Z
LAST-MODIFIED:20250428T145338Z
UID:7375-1746808200-1746815400@ordineaslombardia.it
SUMMARY:Collegio CTD
DESCRIPTION:Collegio CTD\, in videoconferenza
URL:https://ordineaslombardia.it/eventi/collegio-ctd-78/
CATEGORIES:Attività interne
END:VEVENT
BEGIN:VEVENT
DTSTART;TZID=Europe/Rome:20250507T150000
DTEND;TZID=Europe/Rome:20250507T170000
DTSTAMP:20260420T191109
CREATED:20250508T101408Z
LAST-MODIFIED:20250508T101408Z
UID:7487-1746630000-1746637200@ordineaslombardia.it
SUMMARY:Collegio CTD
DESCRIPTION:Collegio CTD\, in videoconferenza (piattaforma z1)
URL:https://ordineaslombardia.it/eventi/collegio-ctd-80/
CATEGORIES:Attività interne
END:VEVENT
BEGIN:VEVENT
DTSTART;TZID=Europe/Rome:20250426T100000
DTEND;TZID=Europe/Rome:20250426T120000
DTSTAMP:20260420T191109
CREATED:20250428T145143Z
LAST-MODIFIED:20250428T145143Z
UID:7373-1745661600-1745668800@ordineaslombardia.it
SUMMARY:Collegio CTD
DESCRIPTION:Collegio CTD\, in videoconferenza (piattaforma z1)
URL:https://ordineaslombardia.it/eventi/collegio-ctd-77/
CATEGORIES:Attività interne
END:VEVENT
BEGIN:VEVENT
DTSTART;TZID=Europe/Rome:20250418T200000
DTEND;TZID=Europe/Rome:20250418T220000
DTSTAMP:20260420T191109
CREATED:20250414T102222Z
LAST-MODIFIED:20250414T102222Z
UID:7169-1745006400-1745013600@ordineaslombardia.it
SUMMARY:Collegio CTD
DESCRIPTION:Collegio CTD\, in videoconferenza (piattaforma z1)
URL:https://ordineaslombardia.it/eventi/collegio-ctd-76/
CATEGORIES:Attività interne
END:VEVENT
BEGIN:VEVENT
DTSTART;TZID=Europe/Rome:20250418T140000
DTEND;TZID=Europe/Rome:20250418T160000
DTSTAMP:20260420T191109
CREATED:20250428T145527Z
LAST-MODIFIED:20250428T145605Z
UID:7377-1744984800-1744992000@ordineaslombardia.it
SUMMARY:Collegio CTD
DESCRIPTION:Collegio CTD\, in videoconferenza (piattaforma z1)
URL:https://ordineaslombardia.it/eventi/collegio-ctd-in-videoconferenza/
CATEGORIES:Attività interne
END:VEVENT
BEGIN:VEVENT
DTSTART;TZID=Europe/Rome:20250415T170000
DTEND;TZID=Europe/Rome:20250415T190000
DTSTAMP:20260420T191109
CREATED:20250130T150849Z
LAST-MODIFIED:20250130T150849Z
UID:6428-1744736400-1744743600@ordineaslombardia.it
SUMMARY:INCONTRO DEL GRUPPO TEMATICO "LAVORO SOCIALE CON I CITTADINI MIGRANTI"
DESCRIPTION:Incontro del gruppo Tematico “Lavoro sociale con i cittadini migranti”\, in sede (sala consiglio)
URL:https://ordineaslombardia.it/eventi/incontro-del-gruppo-tematico-lavoro-sociale-con-i-cittadini-migranti-3/
CATEGORIES:Attività interne
END:VEVENT
BEGIN:VEVENT
DTSTART;TZID=Europe/Rome:20250412T093000
DTEND;TZID=Europe/Rome:20250412T173000
DTSTAMP:20260420T191109
CREATED:20250403T095235Z
LAST-MODIFIED:20250403T095235Z
UID:6898-1744450200-1744479000@ordineaslombardia.it
SUMMARY:Collegio CTD
DESCRIPTION:Collegio CTD\, in presenza
URL:https://ordineaslombardia.it/eventi/collegio-ctd-75/
CATEGORIES:Attività interne
END:VEVENT
BEGIN:VEVENT
DTSTART;TZID=Europe/Rome:20250410T173000
DTEND;TZID=Europe/Rome:20250410T193000
DTSTAMP:20260420T191109
CREATED:20250403T095032Z
LAST-MODIFIED:20250403T095032Z
UID:6895-1744306200-1744313400@ordineaslombardia.it
SUMMARY:Collegio CTD
DESCRIPTION:Collegio CTD\, in videoconferenza (piattaforma z1)
URL:https://ordineaslombardia.it/eventi/collegio-ctd-74/
CATEGORIES:Attività interne
END:VEVENT
BEGIN:VEVENT
DTSTART;TZID=Europe/Rome:20250404T140000
DTEND;TZID=Europe/Rome:20250404T170000
DTSTAMP:20260420T191109
CREATED:20250403T094728Z
LAST-MODIFIED:20250403T094728Z
UID:6893-1743775200-1743786000@ordineaslombardia.it
SUMMARY:Collegio CTD
DESCRIPTION:Collegio CTD\, in videoconferenza (piattaforma z1)
URL:https://ordineaslombardia.it/eventi/collegio-ctd-73/
CATEGORIES:Attività interne
END:VEVENT
BEGIN:VEVENT
DTSTART;TZID=Europe/Rome:20250331T160000
DTEND;TZID=Europe/Rome:20250331T200000
DTSTAMP:20260420T191109
CREATED:20250403T094604Z
LAST-MODIFIED:20250403T094604Z
UID:6891-1743436800-1743451200@ordineaslombardia.it
SUMMARY:Collegio CTD
DESCRIPTION:Collegio CTD\, in videoconferenza (piattaforma z1)
URL:https://ordineaslombardia.it/eventi/collegio-ctd-72/
CATEGORIES:Attività interne
END:VEVENT
BEGIN:VEVENT
DTSTART;TZID=Europe/Rome:20250325T170000
DTEND;TZID=Europe/Rome:20250325T190000
DTSTAMP:20260420T191109
CREATED:20250130T150750Z
LAST-MODIFIED:20250130T150750Z
UID:6426-1742922000-1742929200@ordineaslombardia.it
SUMMARY:INCONTRO DEL GRUPPO TEMATICO "LAVORO SOCIALE CON I CITTADINI MIGRANTI"
DESCRIPTION:Incontro del gruppo Tematico “Lavoro sociale con i cittadini migranti” \, in sede (sala consiglio)
URL:https://ordineaslombardia.it/eventi/incontro-del-gruppo-tematico-lavoro-sociale-con-i-cittadini-migranti-2/
CATEGORIES:Attività interne
END:VEVENT
BEGIN:VEVENT
DTSTART;TZID=Europe/Rome:20250315T090000
DTEND;TZID=Europe/Rome:20250315T110000
DTSTAMP:20260420T191109
CREATED:20250313T151126Z
LAST-MODIFIED:20250313T151126Z
UID:6731-1742029200-1742036400@ordineaslombardia.it
SUMMARY:Collegio CTD
DESCRIPTION:Collegio CTD\, in videoconferenza
URL:https://ordineaslombardia.it/eventi/collegio-ctd-68/
CATEGORIES:Attività interne
END:VEVENT
BEGIN:VEVENT
DTSTART;TZID=Europe/Rome:20250314T173000
DTEND;TZID=Europe/Rome:20250314T193000
DTSTAMP:20260420T191109
CREATED:20250310T111507Z
LAST-MODIFIED:20250310T111507Z
UID:6701-1741973400-1741980600@ordineaslombardia.it
SUMMARY:Collegio CTD
DESCRIPTION:Collegio CTD\, in videoconferenza (piattaforma z1)
URL:https://ordineaslombardia.it/eventi/collegio-ctd-70/
CATEGORIES:Attività interne
END:VEVENT
BEGIN:VEVENT
DTSTART;TZID=Europe/Rome:20250310T183000
DTEND;TZID=Europe/Rome:20250310T203000
DTSTAMP:20260420T191109
CREATED:20250310T111320Z
LAST-MODIFIED:20250310T111320Z
UID:6699-1741631400-1741638600@ordineaslombardia.it
SUMMARY:Collegio CTD
DESCRIPTION:Collegio CTD\, in videoconferenza (piattaforma z1)
URL:https://ordineaslombardia.it/eventi/collegio-ctd-69/
CATEGORIES:Attività interne
END:VEVENT
BEGIN:VEVENT
DTSTART;TZID=Europe/Rome:20250307T203000
DTEND;TZID=Europe/Rome:20250307T220000
DTSTAMP:20260420T191109
CREATED:20250227T113903Z
LAST-MODIFIED:20250227T113903Z
UID:6629-1741379400-1741384800@ordineaslombardia.it
SUMMARY:Collegio CTD
DESCRIPTION:Collegio CTD\, in videoconferenza (piattaforma z1)
URL:https://ordineaslombardia.it/eventi/collegio-ctd-67/
CATEGORIES:Attività interne
END:VEVENT
BEGIN:VEVENT
DTSTART;TZID=Europe/Rome:20250228T170000
DTEND;TZID=Europe/Rome:20250228T190000
DTSTAMP:20260420T191109
CREATED:20250214T140107Z
LAST-MODIFIED:20250214T140107Z
UID:6529-1740762000-1740769200@ordineaslombardia.it
SUMMARY:Collegio CTD
DESCRIPTION:Collegio CTD\, in videoconferenza (piattaforma z1)
URL:https://ordineaslombardia.it/eventi/collegio-ctd-66/
CATEGORIES:Attività interne
END:VEVENT
BEGIN:VEVENT
DTSTART;TZID=Europe/Rome:20250218T170000
DTEND;TZID=Europe/Rome:20250218T190000
DTSTAMP:20260420T191109
CREATED:20250130T150636Z
LAST-MODIFIED:20250130T150636Z
UID:6424-1739898000-1739905200@ordineaslombardia.it
SUMMARY:INCONTRO DEL GRUPPO TEMATICO "LAVORO SOCIALE CON I CITTADINI MIGRANTI"
DESCRIPTION:Incontro del gruppo Tematico “Lavoro sociale con i cittadini migranti” \, in sede (sala consiglio)
URL:https://ordineaslombardia.it/eventi/incontro-del-gruppo-tematico-lavoro-sociale-con-i-cittadini-migranti/
CATEGORIES:Attività interne
END:VEVENT
BEGIN:VEVENT
DTSTART;TZID=Europe/Rome:20250217T203000
DTEND;TZID=Europe/Rome:20250217T223000
DTSTAMP:20260420T191109
CREATED:20250214T135735Z
LAST-MODIFIED:20250214T135735Z
UID:6525-1739824200-1739831400@ordineaslombardia.it
SUMMARY:Collegio CTD
DESCRIPTION:Collegio CTD\, in videoconferenza (piattaforma z1)
URL:https://ordineaslombardia.it/eventi/collegio-ctd-64/
CATEGORIES:Attività interne
END:VEVENT
BEGIN:VEVENT
DTSTART;TZID=Europe/Rome:20250214T140000
DTEND;TZID=Europe/Rome:20250214T160000
DTSTAMP:20260420T191109
CREATED:20250214T140009Z
LAST-MODIFIED:20250214T140009Z
UID:6527-1739541600-1739548800@ordineaslombardia.it
SUMMARY:Collegio CTD
DESCRIPTION:Collegio CTD\, in videoconferenza (piattaforma z1)
URL:https://ordineaslombardia.it/eventi/collegio-ctd-65/
CATEGORIES:Attività interne
END:VEVENT
BEGIN:VEVENT
DTSTART;TZID=Europe/Rome:20250213T173000
DTEND;TZID=Europe/Rome:20250213T190000
DTSTAMP:20260420T191109
CREATED:20250131T150347Z
LAST-MODIFIED:20250131T150347Z
UID:6448-1739467800-1739473200@ordineaslombardia.it
SUMMARY:Collegio CTD
DESCRIPTION:Collegio CTD\, in videoconferenza (piattaforma z1)
URL:https://ordineaslombardia.it/eventi/collegio-ctd-62/
CATEGORIES:Attività interne
END:VEVENT
BEGIN:VEVENT
DTSTART;TZID=Europe/Rome:20250205T180000
DTEND;TZID=Europe/Rome:20250205T200000
DTSTAMP:20260420T191109
CREATED:20250214T135618Z
LAST-MODIFIED:20250214T135618Z
UID:6523-1738778400-1738785600@ordineaslombardia.it
SUMMARY:Collegio CTD
DESCRIPTION:Collegio CTD\, in videoconferenza (piattaforma z1)
URL:https://ordineaslombardia.it/eventi/collegio-ctd-63/
CATEGORIES:Attività interne
END:VEVENT
END:VCALENDAR