BEGIN:VCALENDAR
VERSION:2.0
PRODID:-//CROAS Lombardia - ECPv6.15.20//NONSGML v1.0//EN
CALSCALE:GREGORIAN
METHOD:PUBLISH
X-ORIGINAL-URL:https://ordineaslombardia.it
X-WR-CALDESC:Eventi per CROAS Lombardia
REFRESH-INTERVAL;VALUE=DURATION:PT1H
X-Robots-Tag:noindex
X-PUBLISHED-TTL:PT1H
BEGIN:VTIMEZONE
TZID:Europe/Rome
BEGIN:DAYLIGHT
TZOFFSETFROM:+0100
TZOFFSETTO:+0200
TZNAME:CEST
DTSTART:20240331T010000
END:DAYLIGHT
BEGIN:STANDARD
TZOFFSETFROM:+0200
TZOFFSETTO:+0100
TZNAME:CET
DTSTART:20241027T010000
END:STANDARD
BEGIN:DAYLIGHT
TZOFFSETFROM:+0100
TZOFFSETTO:+0200
TZNAME:CEST
DTSTART:20250330T010000
END:DAYLIGHT
BEGIN:STANDARD
TZOFFSETFROM:+0200
TZOFFSETTO:+0100
TZNAME:CET
DTSTART:20251026T010000
END:STANDARD
BEGIN:DAYLIGHT
TZOFFSETFROM:+0100
TZOFFSETTO:+0200
TZNAME:CEST
DTSTART:20260329T010000
END:DAYLIGHT
BEGIN:STANDARD
TZOFFSETFROM:+0200
TZOFFSETTO:+0100
TZNAME:CET
DTSTART:20261025T010000
END:STANDARD
END:VTIMEZONE
BEGIN:VEVENT
DTSTART;TZID=Europe/Rome:20251216T170000
DTEND;TZID=Europe/Rome:20251216T190000
DTSTAMP:20260420T154028
CREATED:20250130T151600Z
LAST-MODIFIED:20250130T151600Z
UID:6440-1765904400-1765911600@ordineaslombardia.it
SUMMARY:INCONTRO DEL GRUPPO TEMATICO "LAVORO SOCIALE CON I CITTADINI MIGRANTI"
DESCRIPTION:Incontro del gruppo Tematico “Lavoro sociale con i cittadini migranti”\, in sede (sala consiglio)
URL:https://ordineaslombardia.it/eventi/incontro-del-gruppo-tematico-lavoro-sociale-con-i-cittadini-migranti-9/
CATEGORIES:Attività interne
END:VEVENT
BEGIN:VEVENT
DTSTART;TZID=Europe/Rome:20251113T130000
DTEND;TZID=Europe/Rome:20251113T150000
DTSTAMP:20260420T154028
CREATED:20251120T085600Z
LAST-MODIFIED:20251120T085600Z
UID:8660-1763038800-1763046000@ordineaslombardia.it
SUMMARY:Collegio CTD
DESCRIPTION:Collegio CTD\, in videoconferenza (piattaforma z1)
URL:https://ordineaslombardia.it/eventi/collegio-ctd-103/
CATEGORIES:Attività interne
END:VEVENT
BEGIN:VEVENT
DTSTART;TZID=Europe/Rome:20251111T170000
DTEND;TZID=Europe/Rome:20251111T190000
DTSTAMP:20260420T154028
CREATED:20250130T151454Z
LAST-MODIFIED:20250130T151454Z
UID:6438-1762880400-1762887600@ordineaslombardia.it
SUMMARY:INCONTRO DEL GRUPPO TEMATICO "LAVORO SOCIALE CON I CITTADINI MIGRANTI"
DESCRIPTION:Incontro del gruppo Tematico “Lavoro sociale con i cittadini migranti”\, in sede (sala consiglio)
URL:https://ordineaslombardia.it/eventi/incontro-del-gruppo-tematico-lavoro-sociale-con-i-cittadini-migranti-8/
CATEGORIES:Attività interne
END:VEVENT
BEGIN:VEVENT
DTSTART;TZID=Europe/Rome:20251104T210000
DTEND;TZID=Europe/Rome:20251104T230000
DTSTAMP:20260420T154028
CREATED:20251106T082122Z
LAST-MODIFIED:20251120T085049Z
UID:8548-1762290000-1762297200@ordineaslombardia.it
SUMMARY:Collegio CTD
DESCRIPTION:Collegio CTD\, in videoconferenza (piattaforma z1)
URL:https://ordineaslombardia.it/eventi/collegio-ctd-101/
CATEGORIES:Attività interne
END:VEVENT
BEGIN:VEVENT
DTSTART;TZID=Europe/Rome:20251010T140000
DTEND;TZID=Europe/Rome:20251010T160000
DTSTAMP:20260420T154028
CREATED:20251013T112411Z
LAST-MODIFIED:20251013T112411Z
UID:8410-1760104800-1760112000@ordineaslombardia.it
SUMMARY:Collegio CTD
DESCRIPTION:Collegio CTD\, in videoconferenza (piattaforma z1)
URL:https://ordineaslombardia.it/eventi/collegio-ctd-100/
CATEGORIES:Attività interne
END:VEVENT
BEGIN:VEVENT
DTSTART;TZID=Europe/Rome:20250926T140000
DTEND;TZID=Europe/Rome:20250926T160000
DTSTAMP:20260420T154028
CREATED:20250930T115209Z
LAST-MODIFIED:20250930T115209Z
UID:8318-1758895200-1758902400@ordineaslombardia.it
SUMMARY:Collegio CTD
DESCRIPTION:Collegio CTD\, in videoconferenza (piattaforma z1)
URL:https://ordineaslombardia.it/eventi/collegio-ctd-99/
CATEGORIES:Attività interne
END:VEVENT
BEGIN:VEVENT
DTSTART;TZID=Europe/Rome:20250924T153000
DTEND;TZID=Europe/Rome:20250924T173000
DTSTAMP:20260420T154028
CREATED:20250930T115039Z
LAST-MODIFIED:20250930T115039Z
UID:8319-1758727800-1758735000@ordineaslombardia.it
SUMMARY:Collegio CTD
DESCRIPTION:Collegio CTD\, in videoconferenza (piattaforma z1)
URL:https://ordineaslombardia.it/eventi/collegio-ctd-98/
CATEGORIES:Attività interne
END:VEVENT
BEGIN:VEVENT
DTSTART;TZID=Europe/Rome:20250923T170000
DTEND;TZID=Europe/Rome:20250923T190000
DTSTAMP:20260420T154028
CREATED:20250130T151214Z
LAST-MODIFIED:20250130T151214Z
UID:6434-1758646800-1758654000@ordineaslombardia.it
SUMMARY:INCONTRO DEL GRUPPO TEMATICO "LAVORO SOCIALE CON I CITTADINI MIGRANTI"
DESCRIPTION:Incontro del gruppo Tematico “Lavoro sociale con i cittadini migranti”\, in sede (sala consiglio)
URL:https://ordineaslombardia.it/eventi/incontro-del-gruppo-tematico-lavoro-sociale-con-i-cittadini-migranti-6/
CATEGORIES:Attività interne
END:VEVENT
BEGIN:VEVENT
DTSTART;TZID=Europe/Rome:20250919T133000
DTEND;TZID=Europe/Rome:20250919T153000
DTSTAMP:20260420T154028
CREATED:20250902T124253Z
LAST-MODIFIED:20250930T114844Z
UID:8177-1758288600-1758295800@ordineaslombardia.it
SUMMARY:Collegio CTD
DESCRIPTION:Collegio CTD\, in videoconferenza (piattaforma z1)
URL:https://ordineaslombardia.it/eventi/collegio-ctd-97/
CATEGORIES:Attività interne
END:VEVENT
BEGIN:VEVENT
DTSTART;TZID=Europe/Rome:20250910T150000
DTEND;TZID=Europe/Rome:20250910T180000
DTSTAMP:20260420T154028
CREATED:20250902T124155Z
LAST-MODIFIED:20250902T124155Z
UID:8175-1757516400-1757527200@ordineaslombardia.it
SUMMARY:Collegio CTD
DESCRIPTION:Collegio CTD\, in videoconferenza (piattaforma z1)
URL:https://ordineaslombardia.it/eventi/collegio-ctd-96/
CATEGORIES:Attività interne
END:VEVENT
BEGIN:VEVENT
DTSTART;TZID=Europe/Rome:20250904T200000
DTEND;TZID=Europe/Rome:20250904T220000
DTSTAMP:20260420T154028
CREATED:20250902T122450Z
LAST-MODIFIED:20250902T122450Z
UID:8173-1757016000-1757023200@ordineaslombardia.it
SUMMARY:Collegio CTD
DESCRIPTION:Collegio CTD\, in videoconferenza (piattaforma z1)
URL:https://ordineaslombardia.it/eventi/collegio-ctd-95/
CATEGORIES:Attività interne
END:VEVENT
BEGIN:VEVENT
DTSTART;TZID=Europe/Rome:20250730T130000
DTEND;TZID=Europe/Rome:20250730T150000
DTSTAMP:20260420T154028
CREATED:20250722T085511Z
LAST-MODIFIED:20250722T085511Z
UID:8033-1753880400-1753887600@ordineaslombardia.it
SUMMARY:Commissione Etica e Deontologia
DESCRIPTION:Commissione Etica e Deontologia\, in videoconferenza (piattaforma z2)
URL:https://ordineaslombardia.it/eventi/commissione-etica-e-deontologia-4/
CATEGORIES:Attività interne
END:VEVENT
BEGIN:VEVENT
DTSTART;TZID=Europe/Rome:20250728T210000
DTEND;TZID=Europe/Rome:20250728T230000
DTSTAMP:20260420T154028
CREATED:20250902T122155Z
LAST-MODIFIED:20250902T122155Z
UID:8171-1753736400-1753743600@ordineaslombardia.it
SUMMARY:Collegio CTD
DESCRIPTION:Collegio CTD\, in videoconferenza (piattaforma z1)
URL:https://ordineaslombardia.it/eventi/collegio-ctd-94/
CATEGORIES:Attività interne
END:VEVENT
BEGIN:VEVENT
DTSTART;TZID=Europe/Rome:20250724T173000
DTEND;TZID=Europe/Rome:20250724T193000
DTSTAMP:20260420T154028
CREATED:20250722T091744Z
LAST-MODIFIED:20250722T091744Z
UID:8035-1753378200-1753385400@ordineaslombardia.it
SUMMARY:Collegio CTD
DESCRIPTION:Collegio CTD\, in videoconferenza (piattaforma z1)
URL:https://ordineaslombardia.it/eventi/collegio-ctd-93/
CATEGORIES:Attività interne
END:VEVENT
BEGIN:VEVENT
DTSTART;TZID=Europe/Rome:20250718T140000
DTEND;TZID=Europe/Rome:20250718T160000
DTSTAMP:20260420T154028
CREATED:20250722T084810Z
LAST-MODIFIED:20250722T084810Z
UID:8025-1752847200-1752854400@ordineaslombardia.it
SUMMARY:Collegio CTD
DESCRIPTION:Collegio CTD\, in videoconferenza (piattaforma z1)
URL:https://ordineaslombardia.it/eventi/collegio-ctd-91/
CATEGORIES:Attività interne
END:VEVENT
BEGIN:VEVENT
DTSTART;TZID=Europe/Rome:20250714T170000
DTEND;TZID=Europe/Rome:20250714T190000
DTSTAMP:20260420T154028
CREATED:20250722T084908Z
LAST-MODIFIED:20250722T084908Z
UID:8027-1752512400-1752519600@ordineaslombardia.it
SUMMARY:Collegio CTD
DESCRIPTION:Collegio CTD\, in videoconferenza (piattaforma z1)
URL:https://ordineaslombardia.it/eventi/collegio-ctd-92/
CATEGORIES:Attività interne
END:VEVENT
BEGIN:VEVENT
DTSTART;TZID=Europe/Rome:20250711T140000
DTEND;TZID=Europe/Rome:20250711T160000
DTSTAMP:20260420T154028
CREATED:20250722T084715Z
LAST-MODIFIED:20250722T084715Z
UID:8023-1752242400-1752249600@ordineaslombardia.it
SUMMARY:Collegio CTD
DESCRIPTION:Collegio CTD\, in videoconferenza (piattaforma z1)
URL:https://ordineaslombardia.it/eventi/collegio-ctd-90/
CATEGORIES:Attività interne
END:VEVENT
BEGIN:VEVENT
DTSTART;TZID=Europe/Rome:20250710T203000
DTEND;TZID=Europe/Rome:20250710T223000
DTSTAMP:20260420T154028
CREATED:20250627T092915Z
LAST-MODIFIED:20250627T092915Z
UID:7932-1752179400-1752186600@ordineaslombardia.it
SUMMARY:Collegio CTD
DESCRIPTION:Collegio CTD\, in videoconferenza (piattaforma z1)
URL:https://ordineaslombardia.it/eventi/collegio-ctd-89/
CATEGORIES:Attività interne
END:VEVENT
BEGIN:VEVENT
DTSTART;TZID=Europe/Rome:20250704T203000
DTEND;TZID=Europe/Rome:20250704T223000
DTSTAMP:20260420T154028
CREATED:20250627T092815Z
LAST-MODIFIED:20250627T092815Z
UID:7930-1751661000-1751668200@ordineaslombardia.it
SUMMARY:Collegio CTD
DESCRIPTION:Collegio CTD\, in videoconferenza (piattaforma z1)
URL:https://ordineaslombardia.it/eventi/collegio-ctd-88/
CATEGORIES:Attività interne
END:VEVENT
BEGIN:VEVENT
DTSTART;TZID=Europe/Rome:20250703T173000
DTEND;TZID=Europe/Rome:20250703T193000
DTSTAMP:20260420T154028
CREATED:20250722T085043Z
LAST-MODIFIED:20250722T085043Z
UID:8029-1751563800-1751571000@ordineaslombardia.it
SUMMARY:CTD\, Ufficio di coordinamento e supporto
DESCRIPTION:CTD\, Ufficio di coordinamento e supporto\, in videoconferenza
URL:https://ordineaslombardia.it/eventi/ctd-ufficio-di-coordinamento-e-supporto-4/
CATEGORIES:Attività interne
END:VEVENT
BEGIN:VEVENT
DTSTART;TZID=Europe/Rome:20250630T190000
DTEND;TZID=Europe/Rome:20250630T210000
DTSTAMP:20260420T154028
CREATED:20250627T092604Z
LAST-MODIFIED:20250627T092604Z
UID:7928-1751310000-1751317200@ordineaslombardia.it
SUMMARY:Collegio CTD
DESCRIPTION:Collegio CTD\, in videoconferenza (piattaforma z1)
URL:https://ordineaslombardia.it/eventi/collegio-ctd-87/
CATEGORIES:Attività interne
END:VEVENT
BEGIN:VEVENT
DTSTART;TZID=Europe/Rome:20250626T170000
DTEND;TZID=Europe/Rome:20250626T190000
DTSTAMP:20260420T154028
CREATED:20250627T092504Z
LAST-MODIFIED:20250627T092504Z
UID:7926-1750957200-1750964400@ordineaslombardia.it
SUMMARY:Collegio CTD
DESCRIPTION:Collegio CTD\, in videoconferenza (piattaforma z1)
URL:https://ordineaslombardia.it/eventi/collegio-ctd-86/
CATEGORIES:Attività interne
END:VEVENT
BEGIN:VEVENT
DTSTART;TZID=Europe/Rome:20250626T130000
DTEND;TZID=Europe/Rome:20250626T150000
DTSTAMP:20260420T154028
CREATED:20250722T085409Z
LAST-MODIFIED:20250722T085409Z
UID:8031-1750942800-1750950000@ordineaslombardia.it
SUMMARY:Commissione Etica e Deontologia
DESCRIPTION:Commissione Etica e Deontologia\, in videoconferenza (piattaforma z2)
URL:https://ordineaslombardia.it/eventi/commissione-etica-e-deontologia-3/
CATEGORIES:Attività interne
END:VEVENT
BEGIN:VEVENT
DTSTART;TZID=Europe/Rome:20250618T203000
DTEND;TZID=Europe/Rome:20250618T223000
DTSTAMP:20260420T154028
CREATED:20250610T102717Z
LAST-MODIFIED:20250610T102717Z
UID:7827-1750278600-1750285800@ordineaslombardia.it
SUMMARY:Collegio CTD
DESCRIPTION:Collegio CTD\, in videoconferenza (piattaforma z1)
URL:https://ordineaslombardia.it/eventi/collegio-ctd-83/
CATEGORIES:Attività interne
END:VEVENT
BEGIN:VEVENT
DTSTART;TZID=Europe/Rome:20250617T170000
DTEND;TZID=Europe/Rome:20250617T190000
DTSTAMP:20260420T154028
CREATED:20250130T151109Z
LAST-MODIFIED:20250130T151109Z
UID:6432-1750179600-1750186800@ordineaslombardia.it
SUMMARY:INCONTRO DEL GRUPPO TEMATICO "LAVORO SOCIALE CON I CITTADINI MIGRANTI"
DESCRIPTION:Incontro del gruppo Tematico “Lavoro sociale con i cittadini migranti”\, in sede (sala consiglio)
URL:https://ordineaslombardia.it/eventi/incontro-del-gruppo-tematico-lavoro-sociale-con-i-cittadini-migranti-5/
CATEGORIES:Attività interne
END:VEVENT
BEGIN:VEVENT
DTSTART;TZID=Europe/Rome:20250613T170000
DTEND;TZID=Europe/Rome:20250613T190000
DTSTAMP:20260420T154028
CREATED:20250610T102827Z
LAST-MODIFIED:20250610T102827Z
UID:7829-1749834000-1749841200@ordineaslombardia.it
SUMMARY:Collegio CTD
DESCRIPTION:Collegio CTD\, in videoconferenza (piattaforma z1)
URL:https://ordineaslombardia.it/eventi/collegio-ctd-84/
CATEGORIES:Attività interne
END:VEVENT
BEGIN:VEVENT
DTSTART;TZID=Europe/Rome:20250611T200000
DTEND;TZID=Europe/Rome:20250611T220000
DTSTAMP:20260420T154028
CREATED:20250613T120218Z
LAST-MODIFIED:20250613T120218Z
UID:7852-1749672000-1749679200@ordineaslombardia.it
SUMMARY:Collegio CTD
DESCRIPTION:Collegio CTD\, in videoconferenza (piattaforma z1)
URL:https://ordineaslombardia.it/eventi/collegio-ctd-85/
CATEGORIES:Attività interne
END:VEVENT
BEGIN:VEVENT
DTSTART;TZID=Europe/Rome:20250611T160000
DTEND;TZID=Europe/Rome:20250611T180000
DTSTAMP:20260420T154028
CREATED:20250613T120340Z
LAST-MODIFIED:20250613T120340Z
UID:7854-1749657600-1749664800@ordineaslombardia.it
SUMMARY:CTD\, Ufficio di coordinamento e supporto
DESCRIPTION:CTD\, Ufficio di coordinamento e supporto\, in videoconferenza
URL:https://ordineaslombardia.it/eventi/ctd-ufficio-di-coordinamento-e-supporto-3/
CATEGORIES:Attività interne
END:VEVENT
BEGIN:VEVENT
DTSTART;TZID=Europe/Rome:20250527T170000
DTEND;TZID=Europe/Rome:20250527T190000
DTSTAMP:20260420T154028
CREATED:20250130T151000Z
LAST-MODIFIED:20250130T151000Z
UID:6430-1748365200-1748372400@ordineaslombardia.it
SUMMARY:INCONTRO DEL GRUPPO TEMATICO "LAVORO SOCIALE CON I CITTADINI MIGRANTI"
DESCRIPTION:Incontro del gruppo Tematico “Lavoro sociale con i cittadini migranti”\, in sede (sala consiglio)
URL:https://ordineaslombardia.it/eventi/incontro-del-gruppo-tematico-lavoro-sociale-con-i-cittadini-migranti-4/
CATEGORIES:Attività interne
END:VEVENT
BEGIN:VEVENT
DTSTART;TZID=Europe/Rome:20250523T170000
DTEND;TZID=Europe/Rome:20250523T190000
DTSTAMP:20260420T154028
CREATED:20250520T135745Z
LAST-MODIFIED:20250520T135745Z
UID:7648-1748019600-1748026800@ordineaslombardia.it
SUMMARY:Collegio CTD
DESCRIPTION:Collegio CTD\, in videoconferenza (piattaforma z1)
URL:https://ordineaslombardia.it/eventi/collegio-ctd-82/
CATEGORIES:Attività interne
END:VEVENT
END:VCALENDAR